BEGIN:VCALENDAR
VERSION:2.0
PRODID:-//jEvents 2.0 for Joomla//EN
CALSCALE:GREGORIAN
METHOD:PUBLISH
BEGIN:VEVENT
UID:4c95365e9702bb9dfa6f03aea7973b1d
CATEGORIES:13. Bezirk
CREATED:19700101T010000
SUMMARY:NordicKANGA im Lainzer Tiergarten - mit Baby oder Babybauch
LOCATION:Lainzer Tiergarten\, Parkplatz Lainzer Tor\, Ende Hermesstraße\, 1130 Wien
DESCRIPTION:<p><strong>NordicKanga</strong> ist genau auf Deine Bedürfnisse als junge M
 ama und die Deines Babys abgestimmt: Du wirst sicher &amp; effektiv rundum 
 fit und Dein Baby kuschelt mit Dir und genießt es, Deine Nähe zu spüren.<br
  />Aber auch in der besonderen Zeit deiner <strong>Schwangerschaft</strong>
  ist<strong> NordicKanga </strong>wunderbar!</p><p>Beim <strong>NordicKanga
 </strong> im wunderschönen Lainzer Tiergarten genießen wir gemeinsam mit un
 seren Babys die Bewegung an der frischen Luft. Ausdauertraining im Interval
 l mit Kräftigungsübungen sorgen für ein vollständiges Workout.</p><p>Als <s
 trong>Trageberaterin</strong> ist es mir besonders wichtig, dass alle "Kang
 ababys" beim Kangatraining<sup>®</sup> gesund getragen werden:</p><ul><li>g
 ut gestützt</li><li>in "Anhock-Spreiz-Haltung"</li><li>leicht gerundeten Rü
 cken des Babys</li><li>vor optischer Reizüberflutung geschützt</li><li>komf
 ortabel für den Träger</li></ul><p><strong>Wann kannst du starten?</strong>
 <br /><br />NordicKanga ist von der ersten bis zur letzten Woche deiner <st
 rong>Schwangerschaft</strong> wunderbar - vorausgesetzt es besteht kein Spo
 rtverbot!<br />Sobald du den <strong>postnatalen gynäkologischen Check-Up</
 strong> nach der Entbindung erfolgreich bestanden hast (6-8 nach vaginaler 
 bzw. 10-12 Wochen nach Kaiserschnitt-Geburt), bist du beim Kangatraining<su
 p>® </sup>herzlich willkommen!</p><p><strong>Unverbindliches Schnuppertrain
 ing ist jederzeit möglich (gratis für euch!)</strong> - melde dich hier an:
  <a title="Anmeldung Schnuppertraining" href="https://www.kangatraining.inf
 o/at_de/instructor/BrigittaFriedl/booking/681" target="_blank" rel="noopene
 r noreferrer">http://www.kangatraining.at/index.php?name=trainerinfo&amp;su
 b=booking&amp;idtrainer=681</a><br /><br />Breitgefächertes <strong>Gratis-
 Leihtragehilfensortiment vorhanden</strong>!<br /><strong>GRATIS-Leihstöcke
 </strong> können reserviert werden!</p><p> </p><p>ps: hier mein aktueller<s
 trong> Kursplan:</strong><br /><br /><strong><em>Montag</em></strong> 9:30 
 <strong>KangaMIX</strong> <strong>Outdoor mit Baby od. Babybauch</strong> M
 axingpark/Schönbrunn <strong>1130 Wien</strong></p><p><strong><em>Montag</e
 m> </strong>19:45 <strong>KangaBurn HIIT</strong> Soziales Zentrum <strong>
 1230 Wien-Mauer </strong>Endresstraße 59c</p><p><strong><em>Dienstag</em></
 strong> 9:30<strong> KangaMIX Outdoor mit Baby od. Babybauch</strong><stron
 g> 1230 Wien-AltErlaa </strong>Liesingbachradweg</p><p><strong><em>Mittwoch
 </em> </strong>9:30<strong> Kangatraining St. Josef Krankenhaus</strong><st
 rong> 1130 Wien</strong></p><p><strong><em>Mittwoch</em> <em> </em></strong
 >19:00<strong><em> </em>PREKanga für Schwangere St. Josef Krankenhaus 1130 
 Wien</strong></p><p><strong><em>Donnerstag</em></strong> 9:00<strong> Kanga
 Burn (mit oder ohne Kind)</strong> Pfarre Erlöserkirche<strong> 1230 Wien-M
 auer</strong></p><p><strong><em>Donnerstag</em></strong> 10:30<strong> Kang
 atraining </strong>Pfarre Erlöserkirche<strong> 1230 Wien-Mauer</strong></p
 ><p><strong><em>Freitag</em> </strong>9:30<strong> NordicKanga mit Baby ode
 r Babybauch</strong> Lainzer Tiergarten<strong> 1130 Wien</strong></p><p><s
 trong> </strong></p><p><strong>Für weitere Infos/Anmeldung erreichst du mic
 h gerne:</strong></p><p><strong><a href="mailto:brigitta@kangatraining.at">
 brigitta@kangatraining.at</a></strong></p><p><strong>Brigitta Friedl   0676
  7091555</strong></p><p><strong><a href="https://www.kangatraining.info/ins
 tructor/BrigittaFriedl/681">Anmeldung Kanga Brigitta 1130 &amp; 1230 Wien</
 a></strong></p><p><strong><a href="https://www.facebook.com/Kangatraining.B
 rigitta/">Facebook Kangatraining &amp; Trageberatung Brigitta</a></strong><
 /p><p><strong>Ich freue mich darauf, dein Baby und dich kennenzulernen und 
 gemeinsam mit euch in herrlicher Naturkulisse trainieren zu dürfen!</strong
 ><br /><strong>Deine Brigitta</strong></p>
CONTACT:https://www.kangatraining.info/instructor/BrigittaFriedl/681
X-EXTRAINFO:[preis='000'][anmeldung='true']
DTSTAMP:20260423T182812
DTSTART:20190215T083000
DTEND:20190215T103000
SEQUENCE:0
RRULE:FREQ=WEEKLY;UNTIL=20191221T000000Z;INTERVAL=1;BYDAY=FR
TRANSP:OPAQUE
END:VEVENT
END:VCALENDAR