BEGIN:VCALENDAR
VERSION:2.0
PRODID:-//jEvents 2.0 for Joomla//EN
CALSCALE:GREGORIAN
METHOD:PUBLISH
BEGIN:VEVENT
UID:bce9d6fe09d23e55524a09eb29057fbe
CATEGORIES:6. Bezirk
CREATED:20220404T195120
SUMMARY:Oster-Baby-Cafe
LOCATION:6.\, Sandwirtgasse 13/12
DESCRIPTION:Baby-CaféKaffeehaus-Flair mit KinderspielzeugBei richtig gutem Fair-Trade-K
 affee und leckerem selbstgemachten Bio-Gugelhupf kannst du dich entspannt z
 urücklehnen, deinem Kind beim Spielen in unseren übersichtlichen, kindersic
 heren Räumlichkeiten zusehen und mit anderen Mamas und Papas plaudern.\nWir
  laden dich und dein Kind montags und freitags in unser Biolino Baby-Café (
 https://www.biolino.at/baby-cafe/) ein. Bei biologischem Fair-Trade Kaffee,
  auf Wunsch auch koffeinfrei oder mit Pflanzenmilch, leckerem Bio-Kuchen un
 d österreichischen Bio-Fruchtsäften lässt es sich besonders gut plaudern un
 d spielen. Wir achten bei der Auswahl unserer Holzspielsachen darauf, dass 
 sie frei von Schadstoffen sind und nutzen Bio-Bambus Geschirr von Biobu.\n 
 \nWann: Donnerstag\nUhrzeit: 9.00 - 13.00 Uhr\nWo: Biolino Institut, Sandwi
 rtgasse 13, 1060 Wien\nKosten: € 10,- Eintritt inkl. Bio-Kaffee (oder Bio-T
 ee, Bio-Kakao, Bio-Saft) und Bio-Gugelhupf (oder Bio-Obst) und Spielebeitra
 g\nNur Barzahlung!\nBitte beachte unsere Hygienemaßnahmen (https://www.biol
 ino.at/home/hygienemaßnahmen/).\nEs gibt Platz für 6-8 Kinderwägen. Bei gut
 em Wetter kannst du auch im geschützten Innenhof parken. Wenn es dir möglic
 h ist, komm gerne mit deiner Tragehilfe - so haben wir alle mehr Platz zum 
 Wohlfühlen.\n \n https://www.biolino.at/baby-cafe/ (https://www.biolino.at/
 baby-cafe/)\n \nIch freue mich auf deine Baby und dich!\nAlles Liebe,\nMart
 ina \n
X-ALT-DESC;FMTTYPE=text/html:<h1>Baby-Café</h1><h2>Kaffeehaus-Flair mit Kinderspielzeug</h2><p><strong>B
 ei richtig gutem Fair-Trade-Kaffee und leckerem selbstgemachten Bio-Gugelhu
 pf kannst du dich entspannt zurücklehnen, deinem Kind beim Spielen in unser
 en übersichtlichen, kindersicheren Räumlichkeiten zusehen und mit anderen M
 amas und Papas plaudern.</strong></p><p>Wir laden dich und dein Kind montag
 s und freitags in unser <a href="https://www.biolino.at/baby-cafe/">Biolino
  Baby-Café</a> ein. Bei biologischem Fair-Trade Kaffee, auf Wunsch auch kof
 feinfrei oder mit Pflanzenmilch, leckerem Bio-Kuchen und österreichischen B
 io-Fruchtsäften lässt es sich besonders gut plaudern und spielen. Wir achte
 n bei der Auswahl unserer Holzspielsachen darauf, dass sie frei von Schadst
 offen sind und nutzen Bio-Bambus Geschirr von Biobu.</p><p> </p><p><strong>
 Wann</strong>: Donnerstag</p><p><strong>Uhrzeit</strong>: 9.00 - 13.00 Uhr<
 /p><p><strong>Wo</strong>: Biolino Institut, Sandwirtgasse 13, 1060 Wien</p
 ><p><strong>Kosten</strong>: € 10,- Eintritt inkl. Bio-Kaffee (oder Bio-Tee
 , Bio-Kakao, Bio-Saft) und Bio-Gugelhupf (oder Bio-Obst) und Spielebeitrag<
 /p><p>Nur Barzahlung!</p><p>Bitte beachte unsere <a href="https://www.bioli
 no.at/home/hygienemaßnahmen/">Hygienemaßnahmen</a>.</p><p>Es gibt Platz für
  <strong>6-8 Kinderwägen</strong>. Bei gutem Wetter kannst du auch im gesch
 ützten Innenhof parken. Wenn es dir möglich ist, komm gerne mit deiner Trag
 ehilfe - so haben wir alle mehr Platz zum Wohlfühlen.</p><p><strong><span s
 tyle="text-decoration: underline;"> </span></strong></p><p><strong> <a href
 ="https://www.biolino.at/baby-cafe/">https://www.biolino.at/baby-cafe/</a><
 /strong></p><p> </p><p><strong>Ich freue mich auf deine Baby und dich!</str
 ong></p><p><strong>Alles Liebe,</strong></p><p><strong>Martina </strong></p
 >
CONTACT:martina.novak@biolino.at, 067762892970
X-EXTRAINFO:[preis='1000'][anmeldung='true']
DTSTAMP:20260423T081750
DTSTART:20220414T070000
DTEND:20220414T110000
SEQUENCE:0
TRANSP:OPAQUE
END:VEVENT
END:VCALENDAR