BEGIN:VCALENDAR
VERSION:2.0
PRODID:-//jEvents 2.0 for Joomla//EN
CALSCALE:GREGORIAN
METHOD:PUBLISH
BEGIN:VEVENT
UID:62aab7b63c734ac80d4faa7f6be3b2cc
CATEGORIES:18. Bezirk
CREATED:20220414T170419
SUMMARY:Farbklecks Straßen- und Bewegungsfest
LOCATION:Semperstraße/Anastasius-Grün-Gasse
DESCRIPTION:Seid dabei beim Farbklecks Bewegungs- und Straßenfest für Klein &amp; Groß!
 \nAm Samstag 7. Mai 2022 ab 14.00 Uhr erobern wir ein Stück Straße direkt v
 or der Kindergruppe, um gemeinsam zu feiern, spielen, basteln, uns zu beweg
 en und den Tag zu genießen.\nDie Allerkleinsten können Staunen und Schauen 
 oder gemütlich im Kinderwagen schlafen, während die Großen andere Eltern tr
 effen, sich austauschen und einen freudigen Vorsommer-Nachmittag verbringen
 .  \nBei freiem Eintritt erwarten Euch unter anderem\n\n - Hula Hoop Worksh
 op\n - Tombola\n - Kinder-Yoga\n - Seed Bomb Basteln\n - Bewegungs- und Mot
 orik-Station\n - Riesen-Tetris aus Karton – Bemal-Spaß inklusive!\n - Pflan
 zen-Tausch-Börse\n - Bio-Getränke und kleine Bio-Köstlichkeiten gegen freie
  Spenden\n - und ganz viel Lachen &amp; Geselligkeit!Übrigens ganz und gar 
 gestaltet als Öko-Event.\nAm besten befreundete Familien einpacken und vorb
 ei schauen!\nWir freuen uns auf Euch! \n
X-ALT-DESC;FMTTYPE=text/html:<p>Seid dabei beim Farbklecks Bewegungs- und Straßenfest für Klein &amp; Gr
 oß!</p><p>Am <strong>Samstag 7. Mai 2022 ab 14.00 Uhr</strong> erobern wir 
 ein Stück Straße direkt vor der Kindergruppe, um gemeinsam zu feiern, spiel
 en, basteln, uns zu bewegen und den Tag zu genießen.</p><p>Die Allerkleinst
 en können Staunen und Schauen oder gemütlich im Kinderwagen schlafen, währe
 nd die Großen andere Eltern treffen, sich austauschen und einen freudigen V
 orsommer-Nachmittag verbringen.  </p><p>Bei freiem Eintritt erwarten Euch u
 nter anderem</p><ul><li>Hula Hoop Workshop</li><li>Tombola</li><li>Kinder-Y
 oga</li><li>Seed Bomb Basteln</li><li>Bewegungs- und Motorik-Station</li><l
 i>Riesen-Tetris aus Karton – Bemal-Spaß inklusive!</li><li>Pflanzen-Tausch-
 Börse</li><li>Bio-Getränke und kleine Bio-Köstlichkeiten gegen freie Spende
 n</li><li>und ganz viel Lachen &amp; Geselligkeit!</li></ul><p>Übrigens gan
 z und gar gestaltet als Öko-Event.</p><p>Am besten befreundete Familien ein
 packen und vorbei schauen!</p><p>Wir freuen uns auf Euch! </p>
DTSTAMP:20260423T141546
DTSTART:20220507T120000
DTEND:20220507T200000
SEQUENCE:0
TRANSP:OPAQUE
END:VEVENT
END:VCALENDAR