BEGIN:VCALENDAR
VERSION:2.0
PRODID:-//jEvents 2.0 for Joomla//EN
CALSCALE:GREGORIAN
METHOD:PUBLISH
BEGIN:VEVENT
UID:4f7a5fb965693e56c1ee14365aec1ff8
CATEGORIES:18. Bezirk
CREATED:20220418T102838
SUMMARY:Mini-Atelier (1-3J.)
LOCATION:Mal-Atelier\, Gersthofer Str. 128\, 1180 Wien
DESCRIPTION:<p><strong>Mal-Atelier für Minis (1-3 Jahre) mit Begleitperson</strong></p>
 <div class="contentgroup__body  "><p>Hier dürfen sich die Kleinsten ausprob
 ieren: Kreiden, Fingerfarben, Stempel, Walzen und Pinsel stehen zur Verfügu
 ng. Es darf bunt werden! </p><p><i>Bitte Wechselgewand mitbringen.</i></p><
 p><a href="http://www.mal-atelier.at">www.mal-atelier.at</a> </p></div>
CONTACT:info@mal-atelier.at
X-EXTRAINFO:[preis='1500'][anmeldung='true']
DTSTAMP:20260423T142203
DTSTART:20220426T080000
DTEND:20220426T090000
SEQUENCE:0
TRANSP:OPAQUE
END:VEVENT
END:VCALENDAR