BEGIN:VCALENDAR
VERSION:2.0
PRODID:-//jEvents 2.0 for Joomla//EN
CALSCALE:GREGORIAN
METHOD:PUBLISH
BEGIN:VEVENT
UID:bd56ec56ae58da5eda422c5c9f5f181d
CATEGORIES:7. Bezirk
CREATED:20220423T001809
SUMMARY:BIRTH PREPARATION IN ENGLISH
LOCATION:Nanaya
DESCRIPTION:<div class="kvgmc6g5 cxmmr5t8 oygrvhab hcukyx3x c1et5uql">information about
 : birth stages, support of the partner, potential complications and medical
  interventions, the postpartum period, life with your newborn</div><div cla
 ss="cxmmr5t8 oygrvhab hcukyx3x c1et5uql o9v6fnle">physical preparation: bre
 athing exercises, movement and bodywork, relaxation exercises, pelvic and p
 elvic floor exercises, childbirth positions, massages, contact with the bab
 y</div><div class="cxmmr5t8 oygrvhab hcukyx3x c1et5uql o9v6fnle">psychologi
 cal preparation: changes in pregnancy, dealing with anxiety and pain<br />E
 xchange of ideas and discussion with other women and couples in the same si
 tuation</div><div class="cxmmr5t8 oygrvhab hcukyx3x c1et5uql o9v6fnle">A ge
 t-together with all newborns after birth is included in the weekend course 
 and in the course fee</div><div class="cxmmr5t8 oygrvhab hcukyx3x c1et5uql 
 o9v6fnle"><a class="oajrlxb2 g5ia77u1 qu0x051f esr5mh6w e9989ue4 r7d6kgcz r
 q0escxv nhd2j8a9 nc684nl6 p7hjln8o kvgmc6g5 cxmmr5t8 oygrvhab hcukyx3x jb3v
 yjys rz4wbd8a qt6c0cv9 a8nywdso i1ao9s8h esuyzwwr f1sip0of lzcic4wl gpro0wi
 8 py34i1dx" tabindex="0" href="https://www.nanaya.at/birth-preparation-in-e
 nglish?fbclid=IwAR3I8WTE-W1NnYpYs6G_DR308B27sMK6jNudfNLq2hqQ6I0Zr5vywDXS2rM
 " target="_blank" rel="nofollow noopener noreferrer">https://www.nanaya.at/
 birth-preparation-in-english</a></div><div class="cxmmr5t8 oygrvhab hcukyx3
 x c1et5uql o9v6fnle"> </div><div class="cxmmr5t8 oygrvhab hcukyx3x c1et5uql
  o9v6fnle">6.5. 17:30-21:00</div><div class="cxmmr5t8 oygrvhab hcukyx3x c1e
 t5uql o9v6fnle">7.5. 9:30-16:00</div>
CONTACT: rundumgeburt@nanaya.at
X-EXTRAINFO:[preis='9600'][anmeldung='true']
DTSTAMP:20260423T155625
DTSTART:20220506T153000
DTEND:20220506T190000
SEQUENCE:0
TRANSP:OPAQUE
END:VEVENT
END:VCALENDAR