BEGIN:VCALENDAR
VERSION:2.0
PRODID:-//jEvents 2.0 for Joomla//EN
CALSCALE:GREGORIAN
METHOD:PUBLISH
BEGIN:VEVENT
UID:3704a26fd534149aa7c1354eacada968
CATEGORIES:23. Bezirk
CREATED:19700101T010000
SUMMARY:fitdankbaby PRE mit Claudia - Fit mit Babybauch
LOCATION:Better Tennis Center Alt Erlaa\,  Erlaaer Str. 56A\, 1230 Wien
DESCRIPTION:<p>Für Schwangere ab der 14. Schwangerschaftswoche</p><p> </p><p>Es erwarte
 t Dich ein effektives Ganzkörperworkout, abgestimmt auf die Bedürfnisse wer
 dender Mamas. Gezielte Übungen verbessern Kraft, Beweglichkeit und Koordina
 tion und beugen Schwangerschaftsbeschwerden vor. Wenn es dir gut geht, geht
  es deinem Baby gut. Für eine schöne Zeit mit Babybauch. </p><p> </p><p>Wir
  treffen uns immer Mittwochs um 17:00 Uhr im Better Tennis Center Alt Erlaa
 , <span class="w8qArf"> </span><span class="LrzXr">Erlaaer Str. 56A</span>,
  1230 Wien. </p><p>Ein Einstieg in den laufenden Kurs ist jederzeit möglich
 . Der ganze Kurs dauert 4 Wochen ab 08.06.2022. Der 4-Wochen-Kurs kostet EU
 R 52,00. </p><p> </p><p>Buche jetzt Deinen Kurs unter:</p><p><a href="http:
 //www.fitdankbaby.at/claudia.klinger">www.fitdankbaby.at/claudia.klinger</a
 > </p><p> </p><p>Verpasse keine News: </p><p><a href="http://www.facebook.c
 om/fitdankbabyClaudia">www.facebook.com/fitdankbabyClaudia</a> </p><p>Insta
 gram: @fitdankbaby_claudia</p><p><br />Bei Fragen oder wenn du Interesse an
  einer unverbindlichen <strong>Schnupperstunde</strong> hast kannst Du mich
  gerne unter <a href="mailto:claudia.klinger@fitdankbaby.at">claudia.klinge
 r@fitdankbaby.at</a> kontaktieren. </p><p> </p><p>Ich freue mich darauf sch
 on bald gemeinsam mit Dir zu trainieren! </p>
CONTACT:Claudia Klinger - claudia.klinger@fitdankbaby.at
X-EXTRAINFO:[preis='1300'][anmeldung='true']
DTSTAMP:20260423T165952
DTSTART:20220608T150000
DTEND:20220608T160000
SEQUENCE:0
RRULE:FREQ=WEEKLY;UNTIL=20220630T000000Z;INTERVAL=1;BYDAY=WE
TRANSP:OPAQUE
END:VEVENT
END:VCALENDAR