BEGIN:VCALENDAR
VERSION:2.0
PRODID:-//jEvents 2.0 for Joomla//EN
CALSCALE:GREGORIAN
METHOD:PUBLISH
BEGIN:VEVENT
UID:f1c923fb2c1d7beea34e42a2a4aeefba
CATEGORIES:Wien Umgebung
CREATED:20220502T002029
SUMMARY:fitdankbaby Outdoor Strasshof
LOCATION:Strasshof an der Nordbahn 
DESCRIPTION:<div class="php_float_left course_detail_box_konzept" data-gebuehr="50.00" 
 data-title="OUTDOOR" data-description="OUTDOOR: 5 x montags ab 02.05.2022 1
 1:45 Uhr">(Einstieg noch möglich!)</div><div class="php_float_left course_d
 etail_box_konzept" data-gebuehr="50.00" data-title="OUTDOOR" data-descripti
 on="OUTDOOR: 5 x montags ab 02.05.2022 11:45 Uhr">5 x montags ab <b>02.05.2
 022</b> 11:45 Uhr | Gebühr: 50,00 € | 2231 Strasshof</div><div class="php_f
 loat_left course_detail_box_konzept" data-gebuehr="50.00" data-title="OUTDO
 OR" data-description="OUTDOOR: 5 x montags ab 02.05.2022 11:45 Uhr"><br /><
 div class="php_details_zum_kurs openedDetails">Details zum Kurs:</div></div
 ><div id="details_6901" class="course_details test1class">Dein Workout mit 
 Kinderwagen und/oder Trage und viel Spaß für dich und dein Baby egal in wel
 chem Alter.<br /><br /><b>Kursleitung:</b> Patricia Zauner<br /><b>Kursort:
 </b> Outdoor, Hauptstraße 411, 2231 Strasshof<br /><b>Dauer:</b> 45 Minuten
 </div>
CONTACT:https://www.fitdankbaby.at/courses/?id_kurs=6901
X-EXTRAINFO:[preis='5000'][anmeldung='true']
DTSTAMP:20260423T125222
DTSTART:20220502T094500
DTEND:20220502T103000
SEQUENCE:0
TRANSP:OPAQUE
END:VEVENT
END:VCALENDAR