BEGIN:VCALENDAR
VERSION:2.0
PRODID:-//jEvents 2.0 for Joomla//EN
CALSCALE:GREGORIAN
METHOD:PUBLISH
BEGIN:VEVENT
UID:4a1021c6de08deaebf27c91369efaca9
CATEGORIES:8. Bezirk
CREATED:20220502T212419
SUMMARY:Playdate - Sensorybottles gestalten
LOCATION:Mama &amp; Papa Pur
DESCRIPTION:<div class="kvgmc6g5 cxmmr5t8 oygrvhab hcukyx3x c1et5uql" style="text-align
 : center;">Miteinander Zeit verbringen<br />und dabei Spiele mit und für un
 sere Kinder gestalten!</div><div class="kvgmc6g5 cxmmr5t8 oygrvhab hcukyx3x
  c1et5uql" style="text-align: center;"> </div><div class="o9v6fnle cxmmr5t8
  oygrvhab hcukyx3x c1et5uql" style="text-align: center;"><div class="cxmmr5
 t8 oygrvhab hcukyx3x c1et5uql o9v6fnle">Dieses Mal: Sensorybottles<br />Die
  wunderbaren, bunten Flaschen zum Schütteln und Staunen sind für Babys, Kle
 inkinder und ältere Kinder, werden auch Discoverybottles oder CalmDownBottl
 es genannt, weil es viel zu entdecken gibt, die Flaschen aber auch beruhige
 nd auf uns wirken, wenn wir den Flascheninhalt verfolgen.</div><div class="
 cxmmr5t8 oygrvhab hcukyx3x c1et5uql o9v6fnle">?<br />Im Anschluss an die 10
 -15 minütige "Wie geht das" Runde können unsere Kids auch gleich mit dem ne
 uen Spielzeug spielen und/oder die ganze Zeit den Spielraum erkunden.<br />
 Für Eltern gibts Tipps: wie spiele ich mit meinem Kind damit ich es unterst
 ütze selbst zu forschen und es auch mal alleine spielt? Welche Flasche ist 
 für welches Alter geeignet und warum? Wie setze ich Spielimpulse?</div></di
 v><div class="o9v6fnle cxmmr5t8 oygrvhab hcukyx3x c1et5uql" style="text-ali
 gn: center;"> </div><div class="o9v6fnle cxmmr5t8 oygrvhab hcukyx3x c1et5uq
 l" style="text-align: center;"> </div><div class="o9v6fnle cxmmr5t8 oygrvha
 b hcukyx3x c1et5uql" style="text-align: center;">Mehr Information auch auf<
 br /><a class="oajrlxb2 g5ia77u1 qu0x051f esr5mh6w e9989ue4 r7d6kgcz rq0esc
 xv nhd2j8a9 nc684nl6 p7hjln8o kvgmc6g5 cxmmr5t8 oygrvhab hcukyx3x jb3vyjys 
 rz4wbd8a qt6c0cv9 a8nywdso i1ao9s8h esuyzwwr f1sip0of lzcic4wl py34i1dx gpr
 o0wi8" tabindex="0" href="https://l.facebook.com/l.php?u=http%3A%2F%2Fwww.m
 upp.at%2F%3Ffbclid%3DIwAR2VUMTsJbevpF0KfUGoYoq2g8X3oOvdjsRiB9Xo6NF8Cdoz6ulP
 4KFzk4A&amp;h=AT0sLOfFbPDeHsoIWzaVFnpU7h-7ES5JBhDoJdm9sj6jgyModAdil_ZHiPsEe
 jf-lPIavTC9wqFZws4Ql9ulQ0QwmI9wXnJ6xIOuxOsbAKqX3EaQ9OdrvCGBfYnSYO9znjZ5Zew&
 amp;__tn__=q&amp;c[0]=AT22j4_64cnd4fRizyJzE0DDc4IAbS_1KHBdzKMj4Cv3x0dIPQxsL
 aEEr0V3e02YS9JWOlcqrMTP1dYUga_M_QcN_l-gRAGYkorr5BAEGd_SgaaAcpQtjVhod0Qmtaje
 1ev1Bi6PyEuoI0ddY4IlR_5wyySnWhc-yF46Q3loQM02cJGo7w" target="_blank" rel="no
 follow noopener noreferrer">www.mupp.at</a></div><div class="o9v6fnle cxmmr
 5t8 oygrvhab hcukyx3x c1et5uql" style="text-align: center;"> </div><div cla
 ss="o9v6fnle cxmmr5t8 oygrvhab hcukyx3x c1et5uql" style="text-align: center
 ;">Kosten <br />€19,00 pro Team (1 Kind/ 1Erwachsener)<br />5€ jede weitere
  Person<br />Ihr könnt anschließend 3 Flaschen mit nach Hause nehmen.<br />
 3€ für jede weitere Flasche</div>
CONTACT:Melanie Waldbauer, 0663/1389100,  infomupp@icloud.com
X-EXTRAINFO:[preis='1900'][anmeldung='true']
DTSTAMP:20260423T160548
DTSTART:20220519T080000
DTEND:20220519T100000
SEQUENCE:0
TRANSP:OPAQUE
END:VEVENT
END:VCALENDAR