BEGIN:VCALENDAR
VERSION:2.0
PRODID:-//jEvents 2.0 for Joomla//EN
CALSCALE:GREGORIAN
METHOD:PUBLISH
BEGIN:VEVENT
UID:83d87b93d5d65cbbed15a6ea9683dafe
CATEGORIES:23. Bezirk
CREATED:20220513T152442
SUMMARY:Eltern-Kind-Turnen (1,5-3 Jahre)
LOCATION:VHS Erlaa - Putzendoplergasse 4 /1230 Wien
DESCRIPTION:Dieses abwechslungsreiche Spiel- und Bewegungsprogramm bietet Kindern die M
 öglichkeit, gemeinsam mit ihren Eltern neue Bewegungserfahrungen zu machen.
  Sie lernen so mehr Sicherheit und Vertrauen in die eigenen Fähigkeiten. Of
 t findet in diesem Rahmen der erste, behutsam begleitete Kontakt mit andere
 n Kindern statt. Altersgerechte Spiele, Tänze und jede Menge Gelegenheit zu
 m Turnen und Toben fördern Beweglichkeit, Geschicklichkeit und Rhythmusgefü
 hl. Ziel: Die Kinder verfügen über mehr Bewegungssicherheit und -freiheit i
 m Alltag.\nDer Kurs findet am 04.07 und 06.07.2022 von 10:30-11:30 statt.\n
 Preis für beide Termine: 12 Euro.\nNähere Informationen unter: https://www.
 vhs.at/de/k/285604969 (https://www.vhs.at/de/k/285604969)\n
X-ALT-DESC;FMTTYPE=text/html:<p>Dieses abwechslungsreiche Spiel- und Bewegungsprogramm bietet Kindern di
 e Möglichkeit, gemeinsam mit ihren Eltern neue Bewegungserfahrungen zu mach
 en. Sie lernen so mehr Sicherheit und Vertrauen in die eigenen Fähigkeiten.
  Oft findet in diesem Rahmen der erste, behutsam begleitete Kontakt mit and
 eren Kindern statt. Altersgerechte Spiele, Tänze und jede Menge Gelegenheit
  zum Turnen und Toben fördern Beweglichkeit, Geschicklichkeit und Rhythmusg
 efühl. Ziel: Die Kinder verfügen über mehr Bewegungssicherheit und -freihei
 t im Alltag.</p><p><strong>Der Kurs findet am 04.07 und 06.07.2022 von 10:3
 0-11:30 statt.</strong></p><p><strong>Preis für beide Termine: 12 Euro.</st
 rong></p><p><strong>Nähere Informationen unter: <a href="https://www.vhs.at
 /de/k/285604969">https://www.vhs.at/de/k/285604969</a></strong></p>
CONTACT:Erlaa@vhs.at oder 01/ 89 174 123 302
X-EXTRAINFO:[preis='1200'][anmeldung='true']
DTSTAMP:20260423T162611
DTSTART:20220704T083000
DTEND:20220704T093000
SEQUENCE:0
TRANSP:OPAQUE
END:VEVENT
END:VCALENDAR