BEGIN:VCALENDAR
VERSION:2.0
PRODID:-//jEvents 2.0 for Joomla//EN
CALSCALE:GREGORIAN
METHOD:PUBLISH
BEGIN:VEVENT
UID:a37a510272a12957884b86da279a5ca4
CATEGORIES:23. Bezirk
CREATED:20220513T153418
SUMMARY:Elementares Musizieren (1-3 Jahre)
LOCATION:VHS Erlaa - Putzendoplergasse 4 /1230 Wien
DESCRIPTION:Nach dem Kurs ist die Freude an der Musik von Eltern und Kindern geweckt. I
 hr Kind hat musikalisches Neuland erforscht und kreative Zugänge zur Musik 
 und zur Welt entdeckt, seine Sprachkompetenzen wurden gefördert. Sie selbst
  haben Ihre eigenen musikalischen Fähigkeiten (wieder-)entdeckt und entfalt
 et. Sie können die neuen Impulse und Anregungen für das gemeinsame Musikerl
 eben zu Hause nützen. Singen und Bewegen zur Musik. Hörbeispiele, Gedichte,
  Kreisspiele und das Spielen einfacher Instrumente wecken und fördern die L
 iebe und Freude zu und an der Musik.\nDas Elementare Musizieren findet am 0
 4.07 und 06.07.2022 von 09:30-10:30 statt. \nPreis für beide Termine: 11,80
  Euro. \nNähere Informationen unter: https://www.vhs.at/de/k/285604967\n
X-ALT-DESC;FMTTYPE=text/html:<p>Nach dem Kurs ist die Freude an der Musik von Eltern und Kindern geweckt
 . Ihr Kind hat musikalisches Neuland erforscht und kreative Zugänge zur Mus
 ik und zur Welt entdeckt, seine Sprachkompetenzen wurden gefördert. Sie sel
 bst haben Ihre eigenen musikalischen Fähigkeiten (wieder-)entdeckt und entf
 altet. Sie können die neuen Impulse und Anregungen für das gemeinsame Musik
 erleben zu Hause nützen. Singen und Bewegen zur Musik. Hörbeispiele, Gedich
 te, Kreisspiele und das Spielen einfacher Instrumente wecken und fördern di
 e Liebe und Freude zu und an der Musik.</p><p><strong>Das Elementare Musizi
 eren findet am 04.07 und 06.07.2022 von 09:30-10:30 statt. </strong></p><p>
 <strong>Preis für beide Termine: 11,80 Euro. </strong></p><p><strong>Nähere
  Informationen unter: https://www.vhs.at/de/k/285604967</strong></p>
CONTACT:Erlaa@vhs.at oder 01/ 89 174 123 302
X-EXTRAINFO:[preis='1180'][anmeldung='true']
DTSTAMP:20260423T153627
DTSTART:20220704T073000
DTEND:20220704T083000
SEQUENCE:0
TRANSP:OPAQUE
END:VEVENT
END:VCALENDAR