BEGIN:VCALENDAR
VERSION:2.0
PRODID:-//jEvents 2.0 for Joomla//EN
CALSCALE:GREGORIAN
METHOD:PUBLISH
BEGIN:VEVENT
UID:aa98d8559c21f1192498e4b47fd415fd
CATEGORIES:23. Bezirk
CREATED:19700101T010000
SUMMARY:Eltern-Kind-Tanzraum (1,5-3 Jahre)
LOCATION:VHS Erlaa - Putzendoplergasse 4 /1230 Wien
DESCRIPTION:Spielerisch und mit viel Freude an Musik, Rhythmus, Bewegung und Sprache ta
 sten wir uns gemeinsam an das große Bewegungsfeld: 'Tanz' heran und lassen 
 dabei alles zu was die gemeinsame Zeit für Kinder und ihre (Groß)Eltern zu 
 einem Erlebnis mit einem Strauß schöner Erinnerungen werden lässt.\nPreis f
 ür beide Termine: 13,40 Euro\nNähere Informationen unter: https://www.vhs.a
 t/de/k/285604550 (https://www.vhs.at/de/k/285604550)\n
X-ALT-DESC;FMTTYPE=text/html:<p>Spielerisch und mit viel Freude an Musik, Rhythmus, Bewegung und Sprache
  tasten wir uns gemeinsam an das große Bewegungsfeld: 'Tanz' heran und lass
 en dabei alles zu was die gemeinsame Zeit für Kinder und ihre (Groß)Eltern 
 zu einem Erlebnis mit einem Strauß schöner Erinnerungen werden lässt.</p><p
 >Preis für beide Termine: 13,40 Euro</p><p>Nähere Informationen unter: <a h
 ref="https://www.vhs.at/de/k/285604550">https://www.vhs.at/de/k/285604550</
 a></p>
CONTACT:Erlaa@vhs.at oder 01/ 89 174 123 302
X-EXTRAINFO:[preis='1340'][anmeldung='true']
DTSTAMP:20260423T173232
DTSTART:20220720T133000
DTEND:20220720T143000
SEQUENCE:0
RRULE:FREQ=WEEKLY;UNTIL=20220728T000000Z;INTERVAL=1;BYDAY=WE
TRANSP:OPAQUE
END:VEVENT
END:VCALENDAR