BEGIN:VCALENDAR
VERSION:2.0
PRODID:-//jEvents 2.0 for Joomla//EN
CALSCALE:GREGORIAN
METHOD:PUBLISH
BEGIN:VEVENT
UID:ae7ce22297da8d6fc1186c90f0cb2f64
CATEGORIES:23. Bezirk
CREATED:20220513T155139
SUMMARY:Eltern-Kind-Tanzwerkstatt (3-5 Jahre)
LOCATION:VHS Erlaa - Putzendoplergasse 4 /1230 Wien
DESCRIPTION:<p>Dieses abwechslungsreiche Spiel- und Bewegungsprogramm bietet Kindern di
 e Möglichkeit, gemeinsam mit ihren Eltern neue Bewegungserfahrungen zu mach
 en. Sie lernen so mehr Sicherheit und Vertrauen in die eigenen Fähigkeiten.
  Oft findet in diesem Rahmen der erste, behutsam begleitete Kontakt mit and
 eren Kindern statt. Altersgerechte Spiele, Tänze und jede Menge Gelegenheit
  zum Turnen und Toben fördern Beweglichkeit, Geschicklichkeit und Rhythmusg
 efühl. Ziel: Die Kinder verfügen über mehr Bewegungssicherheit und -freihei
 t im Alltag.</p><p><strong>Preis für beide Termine: 13,40 Euro</strong></p>
 <p><strong>Nähere Informationen unter: <a href="https://www.vhs.at/de/k/285
 604546">https://www.vhs.at/de/k/285604546</a></strong></p>
CONTACT:Erlaa@vhs.at oder 01/ 89 174 123 302
X-EXTRAINFO:[preis='1340'][anmeldung='true']
DTSTAMP:20260423T173546
DTSTART:20220720T143000
DTEND:20220727T153000
SEQUENCE:0
TRANSP:OPAQUE
END:VEVENT
END:VCALENDAR