BEGIN:VCALENDAR
VERSION:2.0
PRODID:-//jEvents 2.0 for Joomla//EN
CALSCALE:GREGORIAN
METHOD:PUBLISH
BEGIN:VEVENT
UID:b324b104d5994dbbdc77738748c8cd5b
CATEGORIES:7. Bezirk
CREATED:19700101T010000
SUMMARY:THE MILKY WAY im Dschungel Wien - Theaterhaus für junges Publikum
LOCATION:Dschungel Wien - Theaterhaus für junges Publikum
DESCRIPTION:THE MILKY WAY\nvon VRUM Performing Arts Collective (https://www.dschungelwi
 en.at/pages/vrum-performing-arts-collective)\n\nImmersive Tanzinstallation,
  40 Min.\n6–18 Monate\nInteraktives Spielen, Tanzen und Entdecken für Babys
  und ihre Erwachsenen\n»The Milky Way« ist eine begeh-, bekrabbel-, erleb- 
 und fühlbare Installation für die Allerkleinsten und ihre erwachsenen Begle
 iter:innen: Objekte, Formen und Farben inspirieren das Publikum dazu, sich 
 frei durch den Raum zu bewegen, umherzuwandern, verschiedene Perspektiven z
 u genießen, ihn zu erkunden, aktiv zu sein oder sich in der weichen Umgebun
 g zu entspannen. Jedes Objekt stimuliert die Sinne auf eine andere Art und 
 Weise.\n»The Milky Way« lädt das Publikum von 6 bis 18 Monaten ein, Teil ei
 nes immersiven, alle Sinne ansprechenden, künstlerischen Erlebnisses voller
  Farbe, Musik und Bewegung zu sein. Die Erwachsenen sind angehalten, sich e
 benso aktiv am Geschehen zu beteiligen, ihr Kind zu unterstützen, ihm zu fo
 lgen und die Erfahrungen mit ihm zu teilen.\nKonzept, Entwicklung, Performa
 nce: Sanja Tropp Frühwald, Gat Goodovitch, Till Frühwald\nMusik: Oliver Sto
 tz\nAusstattung: VRUM, Mael Blau\nAusstattungsassistenz: Camilla Smolders\n
 Licht: Christopher Corsmann\nProduktionsleitung: Natalja Kreil\nFotos: Alek
  Kawka\n \nwww.dschungelwien.at/the_milky_way (https://www.dschungelwien.at
 /vorstellung/714)\n
X-ALT-DESC;FMTTYPE=text/html:<div id="desc" class="fr-view description hyphenate"><p><span class="title 
 hyphenate">THE MILKY WAY</span></p><p><span class="group hyphenate">von <a 
 href="https://www.dschungelwien.at/pages/vrum-performing-arts-collective">V
 RUM Performing Arts Collective</a></span></p><p><br />Immersive Tanzinstall
 ation, 40 Min.<br />6–18 Monate</p><p><strong>Interaktives Spielen, Tanzen 
 und Entdecken für Babys und ihre Erwachsenen</strong></p><p>»The Milky Way«
  ist eine begeh-, bekrabbel-, erleb- und fühlbare Installation für die Alle
 rkleinsten und ihre erwachsenen Begleiter:innen: Objekte, Formen und Farben
  inspirieren das Publikum dazu, sich frei durch den Raum zu bewegen, umherz
 uwandern, verschiedene Perspektiven zu genießen, ihn zu erkunden, aktiv zu 
 sein oder sich in der weichen Umgebung zu entspannen. Jedes Objekt stimulie
 rt die Sinne auf eine andere Art und Weise.</p><p>»The Milky Way« lädt das 
 Publikum von 6 bis 18 Monaten ein, Teil eines immersiven, alle Sinne anspre
 chenden, künstlerischen Erlebnisses voller Farbe, Musik und Bewegung zu sei
 n. Die Erwachsenen sind angehalten, sich ebenso aktiv am Geschehen zu betei
 ligen, ihr Kind zu unterstützen, ihm zu folgen und die Erfahrungen mit ihm 
 zu teilen.</p></div><div id="cast" class="fr-view cast hyphenate"><p><stron
 g>Konzept, Entwicklung, Performance:</strong> Sanja Tropp Frühwald, Gat Goo
 dovitch, Till Frühwald<br /><strong>Musik:</strong> Oliver Stotz<br /><stro
 ng>Ausstattung: </strong>VRUM,<strong> </strong>Mael Blau<br /><strong>Auss
 tattungsassistenz: </strong>Camilla Smolders<br /><strong>Licht:</strong> C
 hristopher Corsmann<br /><strong>Produktionsleitung</strong>: Natalja Kreil
 </p><p><strong>Fotos: </strong>Alek Kawka</p><p> </p><p><a href="https://ww
 w.dschungelwien.at/vorstellung/714">www.dschungelwien.at/the_milky_way</a><
 /p></div>
CONTACT:tickets@dschungelwien.at
X-EXTRAINFO:[preis='1000'][anmeldung='false']
DTSTAMP:20260423T081846
DTSTART:20220521T140000
DTEND:20220521T150000
SEQUENCE:0
RRULE:FREQ=DAILY;UNTIL=20220525T000000Z;INTERVAL=1
TRANSP:OPAQUE
END:VEVENT
END:VCALENDAR