BEGIN:VCALENDAR
VERSION:2.0
PRODID:-//jEvents 2.0 for Joomla//EN
CALSCALE:GREGORIAN
METHOD:PUBLISH
BEGIN:VEVENT
UID:47a2be38439129bc5fad5797dcef26e8
CATEGORIES:18. Bezirk
CREATED:20220517T110513
SUMMARY:Mal-Atelier für Minis (1-3J.)
LOCATION:Mal-Atelier Gersthof\, Gersthofer Straße 128\, 1180 Wien
DESCRIPTION:Mal-Atelier für Minis (1 - 3 Jahre) mit BegleitpersonHier dürfen sich die K
 leinsten ausprobieren: Kreiden, Fingerfarben,  Stempel, Walzen und Pinsel s
 tehen zur Verfügung. Es darf bunt werden! \nBitte Wechselgewand mitbringen.
 \nSiehe auch www.mal-atelier.at (http://www.mal-atelier.at).\n
X-ALT-DESC;FMTTYPE=text/html:<div class="contentgroup__heading   "><h4>Mal-Atelier für Minis (1 - 3 Jahr
 e) mit Begleitperson</h4></div><div class="contentgroup__body  "><p>Hier dü
 rfen sich die Kleinsten ausprobieren: Kreiden, Fingerfarben,  Stempel, Walz
 en und Pinsel stehen zur Verfügung. Es darf bunt werden! </p><p><i>Bitte We
 chselgewand mitbringen.</i></p><p>Siehe auch <a href="http://www.mal-atelie
 r.at">www.mal-atelier.at</a>.</p></div>
CONTACT:info@mal-atelier.at, +43 677 63820944
X-EXTRAINFO:[preis='1500'][anmeldung='true']
DTSTAMP:20260423T160105
DTSTART:20220531T080000
DTEND:20220531T090000
SEQUENCE:0
TRANSP:OPAQUE
END:VEVENT
END:VCALENDAR