BEGIN:VCALENDAR
VERSION:2.0
PRODID:-//jEvents 2.0 for Joomla//EN
CALSCALE:GREGORIAN
METHOD:PUBLISH
BEGIN:VEVENT
UID:cf94ebec9d54e608fbbab39953267b01
CATEGORIES:6. Bezirk
CREATED:20220523T002818
SUMMARY:Versteh dein Baby - Dunstan Babysprache
LOCATION:Biolino\, Sandwirtgasse 13/12; 1060 Wien
DESCRIPTION:\n \nDein Baby spricht bereits ab dem ersten Tag mit dir. \nDazu verwendet 
 es spezifische Laute für:\nHunger\nBauchweh\nUnwohl sein\nMüde \nBäucherche
 n\nIn diesem zweistündigem Kurs lernst du, diese Laute ebenfalls zu hören u
 nd damit die Bedürfnisse deines Babys rascher und vor allem präziser zu bef
 riedigen. \nDadurch wird dein Baby entspannter und somit auch du. \nTeilneh
 mer: mindestens 4, maximal 14\nVeranstaltungsort: Biolino, Sandwirtgasse 13
 /12; 1060 Wien\nhttps://www.biolino.at (https://www.biolino.at/)\nWeitere I
 nfos und Buchung über: \nhttps://zwergensprache.com/zwergensprache/novotny.
 php\n
X-ALT-DESC;FMTTYPE=text/html:<p></p><p> </p><p>Dein Baby spricht bereits ab dem ersten Tag mit dir. </p>
 <p>Dazu verwendet es spezifische Laute für:</p><p>Hunger</p><p>Bauchweh</p>
 <p>Unwohl sein</p><p>Müde </p><p>Bäucherchen</p><p>In diesem zweistündigem 
 Kurs lernst du, diese Laute ebenfalls zu hören und damit die Bedürfnisse de
 ines Babys rascher und vor allem präziser zu befriedigen. <br />Dadurch wir
 d dein Baby entspannter und somit auch du. </p><p class="moz-quote-pre">Tei
 lnehmer: mindestens 4, maximal 14</p><p class="moz-quote-pre">Veranstaltung
 sort: Biolino, Sandwirtgasse 13/12; 1060 Wien</p><p class="moz-quote-pre"><
 a href="https://www.biolino.at/">https://www.biolino.at</a></p><p class="mo
 z-quote-pre">Weitere Infos und Buchung über: </p><p class="moz-quote-pre">h
 ttps://zwergensprache.com/zwergensprache/novotny.php</p>
CONTACT:https://zwergensprache.com/zwergensprache/novotny.php
X-EXTRAINFO:[preis='3900'][anmeldung='true']
DTSTAMP:20260423T113233
DTSTART:20220611T070000
DTEND:20220611T090000
SEQUENCE:0
TRANSP:OPAQUE
END:VEVENT
END:VCALENDAR