BEGIN:VCALENDAR
VERSION:2.0
PRODID:-//jEvents 2.0 for Joomla//EN
CALSCALE:GREGORIAN
METHOD:PUBLISH
BEGIN:VEVENT
UID:53be486d6837f1f336d5076a2758b88e
CATEGORIES:3. Bezirk
CREATED:19700101T010000
SUMMARY:MAMA BABY YOGA im Mothers Only Club
LOCATION:MOTHERS ONLY\, Haidingerstraße  17\, 1030 Wien 
DESCRIPTION:Mama Baby Yoga im Mothers Only Club\n(max. 5 Teilnehmerinnen gemeinsam mit 
 Baby)\nangenehme Kleingruppen !\nMit viel Spaß für Mamas und Babys nach der
  Geburt ab der 6ten Woche.\ndavor in Absprache mit Gynäkologin, Gynäkologe 
 oder Hebamme\nYoga-Übungen sind für Dich ein sanfter Weg um nach der Geburt
  wieder ein gutes Körpergefühl zu entwickeln. Im Vordergrund der Rückbildun
 gsgymnastik, bei dieser Yoga-Stunde gemeinsam mit deinem Baby, steht die Be
 wegung für die Eltern.\nSchöpfe neue Kraft und Energie. Genieße die Auszeit
  mit dir und deinem Baby.\nBitte bringe eine Decke für dein Baby mit und fa
 lls vorhanden auch eine Yogamatte für dich.\nPreis 20,-(findet ab 2 Teilneh
 merinnen statt)\n \nWas ist das Mothers Only?\nEgal ob Netzwerken, lesen, t
 rainieren, arbeiten oder bei einer Yogastunde oder Beautybehandlung entspan
 nen. All das findest du unter einem Dach im MO während dein Baby liebevoll 
 betreut wird.\nBuche Yogalehrerin Julia im Slot 10-12:00 jeden FREITAG mit 
 verschiedenen Angeboten: Babymassage, Mama Baby Yoga, Yoga Einzelstunde, Bl
 anance der weiblichen Hormone\nNährere Infos dazu unter: mo@mothers-only.at
  oder schau auch auf meiner Webseite vorbei\nwww.yogapalace.at\n
X-ALT-DESC;FMTTYPE=text/html:<p><strong>Mama Baby Yoga im Mothers Only Club</strong></p><p>(max. 5 Teiln
 ehmerinnen gemeinsam mit Baby)</p><p><b>angenehme Kleingruppen !</b></p><p>
 Mit viel Spaß für Mamas und Babys nach der Geburt ab der 6ten Woche.</p><p>
 davor in Absprache mit Gynäkologin, Gynäkologe oder Hebamme</p><p>Yoga-Übun
 gen sind für Dich ein sanfter Weg um nach der Geburt wieder ein gutes Körpe
 rgefühl zu entwickeln. Im Vordergrund der Rückbildungsgymnastik, bei dieser
  Yoga-Stunde gemeinsam mit deinem Baby, steht die Bewegung für die Eltern.<
 /p><p>Schöpfe neue Kraft und Energie. Genieße die Auszeit mit dir und deine
 m Baby.</p><p>Bitte bringe eine Decke für dein Baby mit und falls vorhanden
  auch eine Yogamatte für dich.</p><p>Preis 20,-<strong>(</strong>findet ab 
 2 Teilnehmerinnen statt)</p><p> </p><p><strong>Was ist das Mothers Only?</s
 trong></p><p>Egal ob Netzwerken, lesen, trainieren, arbeiten oder bei einer
  Yogastunde oder Beautybehandlung entspannen. All das findest du unter eine
 m Dach im MO während dein Baby liebevoll betreut wird.</p><p>Buche Yogalehr
 erin Julia <strong>im Slot 10-12:00 jeden FREITAG </strong>mit verschiedene
 n Angeboten: Babymassage, Mama Baby Yoga, Yoga Einzelstunde, Blanance der w
 eiblichen Hormone</p><p>Nährere Infos dazu unter: mo@mothers-only.at oder s
 chau auch auf meiner Webseite vorbei</p><p>www.yogapalace.at</p>
CONTACT:mo@mothers-only.at
X-EXTRAINFO:[preis='2000'][anmeldung='true']
DTSTAMP:20260423T220033
DTSTART:20220603T090000
DTEND:20220603T100000
SEQUENCE:0
RRULE:FREQ=WEEKLY;UNTIL=20220904T000000Z;INTERVAL=1;BYDAY=FR
TRANSP:OPAQUE
END:VEVENT
END:VCALENDAR