BEGIN:VCALENDAR
VERSION:2.0
PRODID:-//jEvents 2.0 for Joomla//EN
CALSCALE:GREGORIAN
METHOD:PUBLISH
BEGIN:VEVENT
UID:8e4be9eb74c9454eee922339fa02a296
CATEGORIES:19. Bezirk
CREATED:19700101T010000
SUMMARY:Musikgarten für Babys
LOCATION:Raum Ida im Q19
DESCRIPTION:Es gibt keine wichtigere Zeit für die Entwicklung eines Kindes als die erst
 en Lebensjahre, keinen wichtigeren Platz als sein Zuhause und keinen wichti
 geren Menschen als seine Bezugsperson. Der Musikgarten für Babys lädt Babys
  bis 18 Monaten und deren Eltern zum musikalischen Spiel ein. Durch gemeins
 ames Singen, Musizieren, Bewegen und Musikhören können die Kinder ihre ange
 borene musikalische Sprache entdecken und Freude daran finden. Langzeitstud
 ien bestätigen inzwischen den positiven Einfluss von musikalischer Erziehun
 g auf die ganzheitliche Entwicklung des Kindes: auf die musikalische Begabu
 ng, die soziale Kompetenz und das Lernen in vielerlei Hinsicht.\nTermine:  
 02.06., 09.06., 23.06., 30.06.\n \n
X-ALT-DESC;FMTTYPE=text/html:<p>Es gibt keine wichtigere Zeit für die Entwicklung eines Kindes als die e
 rsten Lebensjahre, keinen wichtigeren Platz als sein Zuhause und keinen wic
 htigeren Menschen als seine Bezugsperson. Der Musikgarten für Babys lädt Ba
 bys bis 18 Monaten und deren Eltern zum musikalischen Spiel ein. Durch geme
 insames Singen, Musizieren, Bewegen und Musikhören können die Kinder ihre a
 ngeborene musikalische Sprache entdecken und Freude daran finden. Langzeits
 tudien bestätigen inzwischen den positiven Einfluss von musikalischer Erzie
 hung auf die ganzheitliche Entwicklung des Kindes: auf die musikalische Beg
 abung, die soziale Kompetenz und das Lernen in vielerlei Hinsicht.</p><p><s
 pan class="text-primary font-weight-bold">Termine: </span> 02.06., 09.06., 
 23.06., 30.06.</p><p> </p>
CONTACT:www.spielringel.at
X-EXTRAINFO:[preis='5500'][anmeldung='true']
DTSTAMP:20260423T094541
DTSTART:20220602T113000
DTEND:20220602T121500
SEQUENCE:0
RRULE:FREQ=WEEKLY;UNTIL=20220703T000000Z;INTERVAL=1;BYDAY=TH
TRANSP:OPAQUE
END:VEVENT
END:VCALENDAR