BEGIN:VCALENDAR
VERSION:2.0
PRODID:-//jEvents 2.0 for Joomla//EN
CALSCALE:GREGORIAN
METHOD:PUBLISH
BEGIN:VEVENT
UID:254d9c3a1efb459e1b0facd0b77bb355
CATEGORIES:19. Bezirk
CREATED:19700101T010000
SUMMARY:Musikgarten 2 
LOCATION:Raum Ida im Q19
DESCRIPTION:Der musikalische Jahreskreis lädt Kinder im Alter von drei bis fünf Jahren 
 und deren Eltern zum spielerischen Musizieren und somit zur Weiterentwicklu
 ng ihrer musikalischen Veranlagung ein. Durch die Einführung von Musik als 
 Schlüsselelement werden alle Aspekte des Lernens verstärkt. Die Vernetzung 
 von Musik, Bewegung und Sprache führt zu deutlichen Vorteilen in der Entwic
 klung des Kindes – sowohl im kognitiven als auch psychologischen Bereich. I
 m Mittelpunkt jeder Musikgartenstunde stehen das Gruppenerlebnis, rhythmisc
 he und melodische Echospiele, Lieder, Tänze und der Einsatz von Instrumente
 n.\nTermine:  02.06., 09.06., 23.06., 30.06.\n
X-ALT-DESC;FMTTYPE=text/html:<p><strong>Der musikalische Jahreskreis</strong> lädt Kinder im Alter von d
 rei bis fünf Jahren und deren Eltern zum spielerischen Musizieren und somit
  zur Weiterentwicklung ihrer musikalischen Veranlagung ein. Durch die Einfü
 hrung von Musik als Schlüsselelement werden alle Aspekte des Lernens verstä
 rkt. Die Vernetzung von Musik, Bewegung und Sprache führt zu deutlichen Vor
 teilen in der Entwicklung des Kindes – sowohl im kognitiven als auch psycho
 logischen Bereich. Im Mittelpunkt jeder Musikgartenstunde stehen das Gruppe
 nerlebnis, rhythmische und melodische Echospiele, Lieder, Tänze und der Ein
 satz von Instrumenten.</p><p><span class="text-primary font-weight-bold">Te
 rmine: </span> 02.06., 09.06., 23.06., 30.06.</p>
CONTACT:www.spielringel.at
X-EXTRAINFO:[preis='5500'][anmeldung='true']
DTSTAMP:20260423T094410
DTSTART:20220602T133000
DTEND:20220602T141500
SEQUENCE:0
RRULE:FREQ=WEEKLY;UNTIL=20220703T000000Z;INTERVAL=1;BYDAY=TH
TRANSP:OPAQUE
END:VEVENT
END:VCALENDAR