BEGIN:VCALENDAR
VERSION:2.0
PRODID:-//jEvents 2.0 for Joomla//EN
CALSCALE:GREGORIAN
METHOD:PUBLISH
BEGIN:VEVENT
UID:c05c763309b79ca0d85a74a2ff6e4b5f
CATEGORIES:6. Bezirk
CREATED:20220530T202604
SUMMARY:Reisen mit Kind 
LOCATION:Sandwirtgasse 13/12
DESCRIPTION:Georg und Elena sind nicht nur Weltenbummler mit Leib und Seele, sondern au
 ch als junge Eltern ihrer beiden Söhne Liam (3 Jahre) und Levin (3 Monate) 
 viel unterwegs. Seit zehn Jahren berichtet Elena von ihren Reiseerfahrungen
  in der gesamten Welt auf ihrem Reiseblog www.creativelena.com (https://l.f
 acebook.com/l.php?u=http%3A%2F%2Fwww.creativelena.com%2F%3Ffbclid%3DIwAR1p0
 8h2yVJMMYS4Oz6BO1R1Cv-xkd6igDM5Q-KP4wVAKXQz3fu7SAd2twc&amp;h=AT3senpiJDfqVC
 2n65LnvF2qBPUhqCqNTHsws026tqQ0Si3Z7RhoUVVdiXZKZNw2Btw1bzESkBQyPVDB-cRBt7z8X
 c4MtgCEGjPoTjNU0-pjAR3q_K8Ta5t73QOMk0cYJQ&amp;__tn__=q&amp;c[0]=AT19076amWD
 TVmznoD4lAAAPIJ48Q-qE8DjryHu3ncsIKbLK-bvLk4Bos0le1Hut0NQVT1WNchvMMuIuhXqd_B
 3yb0ujPSuN-luanvgwGnWUOhU2JgXIllvhAjo1xdLdmSD7yZrwAvkPgMiML3vhKpH1esY6khRPa
 1mvDtsDUoSXSTMGbg) – neuerdings auch mit Baby bzw. Kleinkind.Siehe dazu htt
 ps://www.creativelena.com/reiseblog/familienreisen (https://www.creativelen
 a.com/reiseblog/familienreisen?fbclid=IwAR0WgntJasscX9mLoFgBgAs8h7U--AenDIQ
 _e-2UE14eJc13ARWITRG6LXY) Anlässlich ihres Reise-Vortrages sprechen sowohl 
 Papa Georg als auch Mama Elena von ihren bisherigen Reiseerfahrungen mit Li
 am und Levin (jüngster Anlass: Die erste Flugreise zu viert nach Malta!). S
 ie geben viele Tipps, Anregungen und Ideen, wie sich das Reisen mit einem b
 zw. zwei kleinen Weltenbummlern an der Seite bestmöglich gestalten und orga
 nisieren lässt.Darüber hinaus hat Elena auch ein Kinderbuch geschrieben, we
 lches sich ebenfalls um die Themen Reisen, Abenteuer, Sprachen &amp; Sprich
 wörter dreht.Darin gehen ein Storch und ein Murmeltier auf Reisen quer durc
 h Europa; QR-Codes machen die Sprachen der Tiere, denen sie begegnen, auf a
 müsante wie lehrreiche Art und Weise erlebbar. Elena wird im Anschluss an d
 en Reisevortrag ihr Buch vorstellen und auszugsweise daraus vorlesen. Wann:
  24. Juni 2022\nUhrzeit: 16.30 - 18.00 Uhr \nKosten: Freier EintrittOrt: Bi
 olino Institut Bei Interesse könnt Ihr gerne Elena’s Kinderbuch zum Verkauf
 spreis von € 14,90 erwerben.Anmeldung unter:\nhttps://bit.ly/3wC5UOk (https
 ://bit.ly/3wC5UOk?fbclid=IwAR1kQlds5DJ2fGSgNqVWwX476Lq5GdW9yUEHbI0nprL00nnw
 9_CvC85NuM0) Wir freuen uns auf dich!\nElena, Georg und Martina \n
X-ALT-DESC;FMTTYPE=text/html:<div class="kvgmc6g5 cxmmr5t8 oygrvhab hcukyx3x c1et5uql">Georg und Elena s
 ind nicht nur Weltenbummler mit Leib und Seele, sondern auch als junge Elte
 rn ihrer beiden Söhne Liam (3 Jahre) und Levin (3 Monate) viel unterwegs. S
 eit zehn Jahren berichtet Elena von ihren Reiseerfahrungen in der gesamten 
 Welt auf ihrem Reiseblog <a class="oajrlxb2 g5ia77u1 qu0x051f esr5mh6w e998
 9ue4 r7d6kgcz rq0escxv nhd2j8a9 nc684nl6 p7hjln8o kvgmc6g5 cxmmr5t8 oygrvha
 b hcukyx3x jb3vyjys rz4wbd8a qt6c0cv9 a8nywdso i1ao9s8h esuyzwwr f1sip0of l
 zcic4wl gpro0wi8 py34i1dx" tabindex="0" href="https://l.facebook.com/l.php?
 u=http%3A%2F%2Fwww.creativelena.com%2F%3Ffbclid%3DIwAR1p08h2yVJMMYS4Oz6BO1R
 1Cv-xkd6igDM5Q-KP4wVAKXQz3fu7SAd2twc&amp;h=AT3senpiJDfqVC2n65LnvF2qBPUhqCqN
 THsws026tqQ0Si3Z7RhoUVVdiXZKZNw2Btw1bzESkBQyPVDB-cRBt7z8Xc4MtgCEGjPoTjNU0-p
 jAR3q_K8Ta5t73QOMk0cYJQ&amp;__tn__=q&amp;c[0]=AT19076amWDTVmznoD4lAAAPIJ48Q
 -qE8DjryHu3ncsIKbLK-bvLk4Bos0le1Hut0NQVT1WNchvMMuIuhXqd_B3yb0ujPSuN-luanvgw
 GnWUOhU2JgXIllvhAjo1xdLdmSD7yZrwAvkPgMiML3vhKpH1esY6khRPa1mvDtsDUoSXSTMGbg"
  target="_blank" rel="nofollow noopener noreferrer">www.creativelena.com</a
 > – neuerdings auch mit Baby bzw. Kleinkind.</div><div class="kvgmc6g5 cxmm
 r5t8 oygrvhab hcukyx3x c1et5uql">Siehe dazu <a class="oajrlxb2 g5ia77u1 qu0
 x051f esr5mh6w e9989ue4 r7d6kgcz rq0escxv nhd2j8a9 nc684nl6 p7hjln8o kvgmc6
 g5 cxmmr5t8 oygrvhab hcukyx3x jb3vyjys rz4wbd8a qt6c0cv9 a8nywdso i1ao9s8h 
 esuyzwwr f1sip0of lzcic4wl gpro0wi8 py34i1dx" tabindex="0" href="https://ww
 w.creativelena.com/reiseblog/familienreisen?fbclid=IwAR0WgntJasscX9mLoFgBgA
 s8h7U--AenDIQ_e-2UE14eJc13ARWITRG6LXY" target="_blank" rel="nofollow noopen
 er noreferrer">https://www.creativelena.com/reiseblog/familienreisen</a></d
 iv><div class="cxmmr5t8 oygrvhab hcukyx3x c1et5uql o9v6fnle"> </div><div cl
 ass="cxmmr5t8 oygrvhab hcukyx3x c1et5uql o9v6fnle">Anlässlich ihres Reise-V
 ortrages sprechen sowohl Papa Georg als auch Mama Elena von ihren bisherige
 n Reiseerfahrungen mit Liam und Levin (jüngster Anlass: Die erste Flugreise
  zu viert nach Malta!). Sie geben viele Tipps, Anregungen und Ideen, wie si
 ch das Reisen mit einem bzw. zwei kleinen Weltenbummlern an der Seite bestm
 öglich gestalten und organisieren lässt.</div><div class="cxmmr5t8 oygrvhab
  hcukyx3x c1et5uql o9v6fnle">Darüber hinaus hat Elena auch ein Kinderbuch g
 eschrieben, welches sich ebenfalls um die Themen Reisen, Abenteuer, Sprache
 n &amp; Sprichwörter dreht.</div><div class="cxmmr5t8 oygrvhab hcukyx3x c1e
 t5uql o9v6fnle">Darin gehen ein Storch und ein Murmeltier auf Reisen quer d
 urch Europa; QR-Codes machen die Sprachen der Tiere, denen sie begegnen, au
 f amüsante wie lehrreiche Art und Weise erlebbar. Elena wird im Anschluss a
 n den Reisevortrag ihr Buch vorstellen und auszugsweise daraus vorlesen.</d
 iv><div class="cxmmr5t8 oygrvhab hcukyx3x c1et5uql o9v6fnle"> </div><div cl
 ass="cxmmr5t8 oygrvhab hcukyx3x c1et5uql o9v6fnle">Wann: 24. Juni 2022<br /
 >Uhrzeit: 16.30 - 18.00 Uhr <br />Kosten: Freier Eintritt</div><div class="
 cxmmr5t8 oygrvhab hcukyx3x c1et5uql o9v6fnle">Ort: Biolino Institut</div><d
 iv class="cxmmr5t8 oygrvhab hcukyx3x c1et5uql o9v6fnle"> </div><div class="
 cxmmr5t8 oygrvhab hcukyx3x c1et5uql o9v6fnle">Bei Interesse könnt Ihr gerne
  Elena’s Kinderbuch zum Verkaufspreis von € 14,90 erwerben.</div><div class
 ="cxmmr5t8 oygrvhab hcukyx3x c1et5uql o9v6fnle">Anmeldung unter:<br /><a cl
 ass="oajrlxb2 g5ia77u1 qu0x051f esr5mh6w e9989ue4 r7d6kgcz rq0escxv nhd2j8a
 9 nc684nl6 p7hjln8o kvgmc6g5 cxmmr5t8 oygrvhab hcukyx3x jb3vyjys rz4wbd8a q
 t6c0cv9 a8nywdso i1ao9s8h esuyzwwr f1sip0of lzcic4wl gpro0wi8 py34i1dx" tab
 index="0" href="https://bit.ly/3wC5UOk?fbclid=IwAR1kQlds5DJ2fGSgNqVWwX476Lq
 5GdW9yUEHbI0nprL00nnw9_CvC85NuM0" target="_blank" rel="nofollow noopener no
 referrer">https://bit.ly/3wC5UOk</a></div><div class="cxmmr5t8 oygrvhab hcu
 kyx3x c1et5uql o9v6fnle"> </div><div class="cxmmr5t8 oygrvhab hcukyx3x c1et
 5uql o9v6fnle">Wir freuen uns auf dich!<br />Elena, Georg und Martina</div>
 <p> </p>
CONTACT:martina.novak@biolino.at, 067762892970
X-EXTRAINFO:[preis='000'][anmeldung='true']
DTSTAMP:20260423T160116
DTSTART:20220624T143000
DTEND:20220624T153000
SEQUENCE:0
TRANSP:OPAQUE
END:VEVENT
END:VCALENDAR