BEGIN:VCALENDAR
VERSION:2.0
PRODID:-//jEvents 2.0 for Joomla//EN
CALSCALE:GREGORIAN
METHOD:PUBLISH
BEGIN:VEVENT
UID:eb9da6a094f5472016c00797a7d266c8
CATEGORIES:6. Bezirk
CREATED:20220530T210345
SUMMARY:Bio-Beikost-Picknick
LOCATION:6.\, Sandwirtgasse 13/12
DESCRIPTION:Bio-Beikost-Picknick\nDer Beikoststart ist für Babys, aber natürlich auch M
 amas und Papas ein großer Meilenstein in der Entwicklung.\nUnd wie das so o
 ft im Elterndasein ist beschäftigt sich auch hier das Mama- und Papahirn mi
 t unendlich vielen Fragen, wie\n- „Wann ist mein Baby soweit neben (Mutter-
 )milch auch anderes zu essen?“\n- „Wie soll ich die Beikost einführen?“\n- 
 „Brei?, Breifrei? Oder doch was anderes?“\n- „Füttern vs. selbstbestimmtes 
 Essen“\n- „Wann muss oder darf ich Wasser und sonstige Flüssigkeiten einfüh
 ren?“\n- „Bei welchen Lebensmitteln ist Vorsicht geboten?“\nAll diese und n
 och viel mehr Fragen geistern in unseren Köpfen herum.\nBei der Beikost gib
 t es viele verschiedene Wege und besonders wichtig ist uns, dass ihr hier e
 uren individuellen Weg findet. Und um diesen finden zu können bekommt ihr v
 on uns, Corina und Martina, die wichtigsten Dinge, auf die geachtet werden 
 können, mit auf euren Weg. Denn dann wird der Beikoststart ganz easy!\n \nU
 nd da wir der festen Überzeugung sind, dass Wissen viel leichter vermittelt
  wird, wenn man dabei entspannt, mit Spaß und vor allem auch praktisch an d
 ie Sacher heran geht haben wir unseren Workshop in den Rahmen eines Picknic
 ks gepackt.\nEssen und Lernen mit allen Sinnen ist nicht nur für uns, sonde
 rn auch für unsere Babys eine wichtige Unterstützung.\nDeswegen sind alle S
 peisen und Getränke aus biologischem und ökologischem Anbau und für Babys a
 b Beikostreife geeignet zubereitet.\nUm die Vielfalt an Lebensmittel für eu
 ch bereitstellen zu können wurde dieser Workshop von Adamah BioHof gesponse
 rt!\n \nWann:\nSo., 17. Juli 2022\nUhrzeit: 10.30 - 13.00 Uhr\nKosten: € 59
 ,- pro 1 Elternteil mit Kind, Familienpreis € 99,-\nOrt: Biolino Institut\n
  \ninkl. Vortrag mit fachlicher Beratung, Handout, Lebensmittel und selbstg
 emachte Speisen in Bio-Qalität, Rezepten, Büchertisch zum Stöbern, Kaffee f
 ür die Eltern, in kleiner Runde!\nInfos und Anmeldung unter:\nhttps://www.b
 iolino.at/kurse-und-workshops-1/workshops-mit-corina-zahola/\n \nmit Expert
 in Corina Zahola\nund Martina Novak\n
X-ALT-DESC;FMTTYPE=text/html:<p><strong>Bio-Beikost-Picknick</strong></p><p>Der Beikoststart ist für Bab
 ys, aber natürlich auch Mamas und Papas ein großer Meilenstein in der Entwi
 cklung.</p><p>Und wie das so oft im Elterndasein ist beschäftigt sich auch 
 hier das Mama- und Papahirn mit unendlich vielen Fragen, wie</p><p>- „Wann 
 ist mein Baby soweit neben (Mutter-)milch auch anderes zu essen?“</p><p>- „
 Wie soll ich die Beikost einführen?“</p><p>- „Brei?, Breifrei? Oder doch wa
 s anderes?“</p><p>- „Füttern vs. selbstbestimmtes Essen“</p><p>- „Wann muss
  oder darf ich Wasser und sonstige Flüssigkeiten einführen?“</p><p>- „Bei w
 elchen Lebensmitteln ist Vorsicht geboten?“</p><p>All diese und noch viel m
 ehr Fragen geistern in unseren Köpfen herum.</p><p>Bei der Beikost gibt es 
 viele verschiedene Wege und besonders wichtig ist uns, dass ihr hier euren 
 individuellen Weg findet. Und um diesen finden zu können bekommt ihr von un
 s, Corina und Martina, die wichtigsten Dinge, auf die geachtet werden könne
 n, mit auf euren Weg. Denn dann wird der Beikoststart ganz easy!</p><p> </p
 ><p>Und da wir der festen Überzeugung sind, dass Wissen viel leichter vermi
 ttelt wird, wenn man dabei entspannt, mit Spaß und vor allem auch praktisch
  an die Sacher heran geht haben wir unseren Workshop in den Rahmen eines Pi
 cknicks gepackt.</p><p>Essen und Lernen mit allen Sinnen ist nicht nur für 
 uns, sondern auch für unsere Babys eine wichtige Unterstützung.</p><p>Deswe
 gen sind alle Speisen und Getränke aus biologischem und ökologischem Anbau 
 und für Babys ab Beikostreife geeignet zubereitet.</p><p>Um die Vielfalt an
  Lebensmittel für euch bereitstellen zu können wurde dieser Workshop von Ad
 amah BioHof gesponsert!</p><p> </p><p><strong>Wann:</strong></p><p>So., 17.
  Juli 2022</p><p><strong>Uhrzeit:</strong> 10.30 - 13.00 Uhr</p><p><strong>
 Kosten:</strong> € 59,- pro 1 Elternteil mit Kind, Familienpreis € 99,-</p>
 <p><strong>Ort:</strong> Biolino Institut</p><p> </p><p>inkl. Vortrag mit f
 achlicher Beratung, Handout, Lebensmittel und selbstgemachte Speisen in Bio
 -Qalität, Rezepten, Büchertisch zum Stöbern, Kaffee für die Eltern, in klei
 ner Runde!</p><p>Infos und Anmeldung unter:</p><p>https://www.biolino.at/ku
 rse-und-workshops-1/workshops-mit-corina-zahola/</p><p> </p><p>mit Expertin
  Corina Zahola</p><p>und Martina Novak</p>
CONTACT:martina.novak@biolino.at, 067762892970
X-EXTRAINFO:[preis='5900'][anmeldung='true']
DTSTAMP:20260423T155317
DTSTART:20220717T083000
DTEND:20220717T110000
SEQUENCE:0
TRANSP:OPAQUE
END:VEVENT
END:VCALENDAR