BEGIN:VCALENDAR
VERSION:2.0
PRODID:-//jEvents 2.0 for Joomla//EN
CALSCALE:GREGORIAN
METHOD:PUBLISH
BEGIN:VEVENT
UID:c53310765b19227280a59067366cae91
CATEGORIES:6. Bezirk
CREATED:20220530T210528
SUMMARY:Babyschlaf-Workshop
LOCATION:6.\, Sandwirtgasse 13/12
DESCRIPTION:<div class="kvgmc6g5 cxmmr5t8 oygrvhab hcukyx3x c1et5uql">Babyschlaf-Worksh
 op</div><div class="cxmmr5t8 oygrvhab hcukyx3x c1et5uql o9v6fnle">"Schlaf K
 indlein schlaf ... oder doch nicht?"</div><div class="cxmmr5t8 oygrvhab hcu
 kyx3x c1et5uql o9v6fnle"><br />Babyschlaf – so gut wie kein anderes Thema b
 ewegt Eltern so sehr, wie der Schlaf des Babys.</div><div class="cxmmr5t8 o
 ygrvhab hcukyx3x c1et5uql o9v6fnle">Im Babyschlaf-Treff nimmt sich Expertin
  Corina, 1001kindernacht® Schlafberaterin, Zeit mit dir und den anderen aus
 führlich über das Thema zu sprechen und die wichtigsten Punkte in der kindl
 ichen Schlafentwicklung zu erklären.</div><div class="cxmmr5t8 oygrvhab hcu
 kyx3x c1et5uql o9v6fnle"><br />Im Workshop sprechen wir über:<br />- den me
 nschliche Schlaf<br />- die kindliche Schlafentwicklung<br />- die kindlich
 en Bedürfnisse<br />- „Kinder brauchen uns auch nachts – Warum Schlaftraini
 ngs nicht empfehlenswert sind“<br />- die Eltern-Kind-Bindung<br />- Schlaf
 en und Stillen<br />- SIDS – Sudden Infant Death Syndrom<br />- die Rolle d
 es Papas</div><div class="cxmmr5t8 oygrvhab hcukyx3x c1et5uql o9v6fnle"><br
  />Du kannst gerne mit deinem Kind kommen. Dafür bereiten wir eine Spielumg
 ebung mit Spiel- und Beschäftigungsmaterial vor.</div><div class="cxmmr5t8 
 oygrvhab hcukyx3x c1et5uql o9v6fnle"><br />Du bekommst ein Handout mit viel
 en weiteren Informationen zum Weiter- und Nachlesen.</div><div class="cxmmr
 5t8 oygrvhab hcukyx3x c1et5uql o9v6fnle"> </div><div class="cxmmr5t8 oygrvh
 ab hcukyx3x c1et5uql o9v6fnle">Wann: Fr., 10. Juni 2022<br />Uhrzeit: jewei
 ls von 16.00 bis 18.30 Uhr</div><div class="cxmmr5t8 oygrvhab hcukyx3x c1et
 5uql o9v6fnle">Kosten: € 42,- pro Person, € 65,- pro Paar<br />inkl. Vortra
 g, Getränke, Handout</div><div class="cxmmr5t8 oygrvhab hcukyx3x c1et5uql o
 9v6fnle"> </div><div class="cxmmr5t8 oygrvhab hcukyx3x c1et5uql o9v6fnle">I
 nfos und Anmeldung: https://www.biolino.at/kurse-und-workshops-1/workshops-
 mit-corina-zahola/</div><div class="cxmmr5t8 oygrvhab hcukyx3x c1et5uql o9v
 6fnle"><br />Expertin Corina Zahola und<br />Martina Novak<div class="oajrl
 xb2 g5ia77u1 qu0x051f esr5mh6w e9989ue4 r7d6kgcz rq0escxv nhd2j8a9 nc684nl6
  p7hjln8o kvgmc6g5 cxmmr5t8 oygrvhab hcukyx3x jb3vyjys rz4wbd8a qt6c0cv9 a8
 nywdso i1ao9s8h esuyzwwr f1sip0of lzcic4wl gpro0wi8 oo9gr5id lrazzd5p" tabi
 ndex="0"> </div></div><p> </p>
CONTACT:martina.novak@biolino.at, 067762892970
X-EXTRAINFO:[preis='4200'][anmeldung='true']
DTSTAMP:20260425T134754
DTSTART:20220610T130000
DTEND:20220610T150000
SEQUENCE:0
TRANSP:OPAQUE
END:VEVENT
END:VCALENDAR