BEGIN:VCALENDAR
VERSION:2.0
PRODID:-//jEvents 2.0 for Joomla//EN
CALSCALE:GREGORIAN
METHOD:PUBLISH
BEGIN:VEVENT
UID:fdb066713c19bab7335615b77c7f7bf7
CATEGORIES:6. Bezirk
CREATED:20220530T210732
SUMMARY:Familien-Atelier
LOCATION:6.\, Sandwirtgasse 13/12
DESCRIPTION:Biolino Familien-AtelierIm Biolino Familien-Atelier können große und kleine
  Künstlerinnen und Künstler nach Herzenslust mit unseren selbst hergestellt
 en Bio-Farben matschen und gatschen, ohne dass Mama oder Papa nachher aufrä
 umen müssen. Kommt gerne als Familie bei uns vorbei und verbringt einen kun
 terbunten Vormittag bei uns.\nProgrammWas erwartet dich?\n \nEs wird klebri
 g, matschig, bröselig, kratzig: Sand, Erde, Getreidekörner, Holz und viele 
 andere haptische Anregungen warten auf experimentierfreudige Entdecker*inne
 n. Die Kinder können nach Herzenslust die Bio-Farben und Materialien mische
 n und dabei mit allen Sinnen erleben, wie sie ihre Eigenschaften verändern.
 \n \nAm Ende gibt es für die Kleinen ein wohlig warmes Bad und ihr geht mit
  einem selbstgebastelten Andenken stolz nach Hause.\n \nDu kennst das besti
 mmt: Manchen Kindern gefallen sandige Hände und klebrige Füße sehr, andere 
 wiederum brauchen Zeit, um sich damit anzufreunden. Genau diese Zeit und de
 n Freiraum geben wir dir und deinem Kind im Biolino Familien-Atelier. Damit
  folgen wir auch der Idee von Pädagoge Arno Stern, der das hemmungslose, sp
 ielerische Malen und Experimentieren als "Rückkehr zum wahren Wesen" sieht.
 \n \nFür Kinder vom Sitzalter bis 4 Jahre.\n \nTermin: 19. Juni 2022\nUhrze
 it: 10.00 - 12.00 Uhr\nKosten:  € 45.- für die ganze Familie ( 1 Elternpaar
  und ihre Kinder)\n inkl. Material und biologischer Jause für die ganze Fam
 ilie\nTermin: 31. Juli 2022\nUhrzeit: 10.00 - 12.00 Uhr\nKosten:  € 45.- fü
 r die ganze Familie ( 1 Elternpaar und ihre Kinder)\n inkl. Material und bi
 ologischer Jause für die ganze Familie\n \nInfos und Anmeldung unter:\nhttp
 s://www.biolino.at/familien-atelier/\n \nIch freue mich auf euch!\nAlles Li
 ebe,\nMartina \n
X-ALT-DESC;FMTTYPE=text/html:<h1>Biolino Familien-Atelier</h1><p>Im Biolino Familien-Atelier können groß
 e und kleine Künstlerinnen und Künstler nach Herzenslust mit unseren selbst
  hergestellten Bio-Farben matschen und gatschen, ohne dass Mama oder Papa n
 achher aufräumen müssen. Kommt gerne als Familie bei uns vorbei und verbrin
 gt einen kunterbunten Vormittag bei uns.</p><h3>Programm</h3><p><strong>Was
  erwartet dich?</strong></p><p> </p><p>Es wird klebrig, matschig, bröselig,
  kratzig: Sand, Erde, Getreidekörner, Holz und viele andere haptische Anreg
 ungen warten auf experimentierfreudige Entdecker*innen. Die Kinder können n
 ach Herzenslust die Bio-Farben und Materialien mischen und dabei mit allen 
 Sinnen erleben, wie sie ihre Eigenschaften verändern.</p><p> </p><p>Am Ende
  gibt es für die Kleinen ein wohlig warmes Bad und ihr geht mit einem selbs
 tgebastelten Andenken stolz nach Hause.</p><p> </p><p>Du kennst das bestimm
 t: Manchen Kindern gefallen sandige Hände und klebrige Füße sehr, andere wi
 ederum brauchen Zeit, um sich damit anzufreunden. Genau diese Zeit und den 
 Freiraum geben wir dir und deinem Kind im Biolino Familien-Atelier. Damit f
 olgen wir auch der Idee von Pädagoge Arno Stern, der das hemmungslose, spie
 lerische Malen und Experimentieren als "Rückkehr zum wahren Wesen" sieht.</
 p><p> </p><p><strong>Für Kinder vom Sitzalter bis 4 Jahre.</strong></p><p> 
 </p><p><strong>Termin</strong>: 19. Juni 2022</p><p><strong>Uhrzeit</strong
 >: 10.00 - 12.00 Uhr</p><p><strong>Kosten</strong>:  € 45.- für die ganze F
 amilie ( 1 Elternpaar und ihre Kinder)<br /> <em>inkl. Material und biologi
 scher Jause</em> <em>für die ganze Familie</em></p><p><strong>Termin</stron
 g>: 31. Juli 2022</p><p><strong>Uhrzeit</strong>: 10.00 - 12.00 Uhr</p><p><
 strong>Kosten</strong>:  € 45.- für die ganze Familie ( 1 Elternpaar und ih
 re Kinder)<br /> <em>inkl. Material und biologischer Jause</em> <em>für die
  ganze Familie</em></p><p> </p><p><em>Infos und Anmeldung unter:</em></p><p
 ><em>https://www.biolino.at/familien-atelier/</em></p><p> </p><p><em>Ich fr
 eue mich auf euch!</em></p><p><em>Alles Liebe,</em></p><p><em>Martina </em>
 </p>
CONTACT:martina.novak@biolino.at, 067762892970
X-EXTRAINFO:[preis='4500'][anmeldung='true']
DTSTAMP:20260423T172351
DTSTART:20220731T080000
DTEND:20220731T100000
SEQUENCE:0
TRANSP:OPAQUE
END:VEVENT
END:VCALENDAR