BEGIN:VCALENDAR
VERSION:2.0
PRODID:-//jEvents 2.0 for Joomla//EN
CALSCALE:GREGORIAN
METHOD:PUBLISH
BEGIN:VEVENT
UID:6fd8c03dcd4bf3d799510600df2a1017
CATEGORIES:6. Bezirk
CREATED:19700101T010000
SUMMARY:Baby-Atelier
LOCATION:6.\, Sandwirtgasse 13/12
DESCRIPTION:Biolino Baby-AtelierFür Kinder ab dem Sitzalter bis 2,5 JahreGruppe 1: 09.3
 0 - 10.30 Uhr\n Gruppe 2: 11.00 - 12.00 Uhr\nGruppe 3: 14.30 - 15.30 Uhr\nS
 pielgruppe mit dem Schwerpunkt haptische Sinnesschulung\n- Experimentieren 
 mit Farben, Konsistenzen und unterschiedlichsten Materialien\nDie kleinen K
 ünstlerinnen und Künstler können im Biolino Baby-Atelier nach Herzenslust m
 it selbst hergestellten Bio-Farben matschen und gatschen, ohne dass Mama od
 er Papa nachher aufräumen müssen. Über das ganze Semester verteilt führen w
 ir immer wieder neues Erlebnismaterial in die Gruppe ein.\n \n Klebrig, mat
 schig, bröselig, kratzig: Sand, Erde, Getreidekörner, Holz und viele andere
  haptische Anregungen warten auf experimentierfreudige Entdecker*innen. Die
  Kinder können nach Herzenslust die Bio-Farben und Materialien mischen und 
 dabei mit allen Sinnen erleben, wie sie ihre Eigenschaften verändern.\n \nE
 instieg jederzeit möglich!Flexibel mit der Biolino Blockkarte: www.biolino.
 at/Blockkarteweitere Infos unter: Baby-Atelier (https://www.biolino.at/spie
 lgruppen/baby-atelier/)\n \nSommerspaß 2022:\nJuli  2022  6., 13., 20. und 
 27.7\nAugust 2022  3., 10. 08.\n \nWir freuen uns auf euch!\nMartina und da
 s Biolino Team\n \n \nwww.biolino.at (http://www.biolino.at) martina.novak@
 biolino.at (mailto:martina.novak@biolino.at)\n 0677 628 929 70\nSandwirtgas
 se 13/12\n1060 Wien\n
X-ALT-DESC;FMTTYPE=text/html:<h1>Biolino Baby-Atelier</h1><h2>Für Kinder ab dem Sitzalter bis 2,5 Jahre<
 /h2><p><strong>Gruppe 1</strong>: 09.30 - 10.30 Uhr<br /> <strong>Gruppe 2<
 /strong>: 11.00 - 12.00 Uhr</p><p><strong>Gruppe 3</strong>: 14.30 - 15.30 
 Uhr</p><p><strong>Spielgruppe mit dem Schwerpunkt haptische Sinnesschulung<
 /strong></p><p>- Experimentieren mit Farben, Konsistenzen und unterschiedli
 chsten Materialien</p><p>Die kleinen Künstlerinnen und Künstler können im B
 iolino Baby-Atelier nach Herzenslust mit selbst hergestellten Bio-Farben ma
 tschen und gatschen, ohne dass Mama oder Papa nachher aufräumen müssen. Übe
 r das ganze Semester verteilt führen wir immer wieder neues Erlebnismateria
 l in die Gruppe ein.<br /> <br /> Klebrig, matschig, bröselig, kratzig: San
 d, Erde, Getreidekörner, Holz und viele andere haptische Anregungen warten 
 auf experimentierfreudige Entdecker*innen. Die Kinder können nach Herzenslu
 st die Bio-Farben und Materialien mischen und dabei mit allen Sinnen erlebe
 n, wie sie ihre Eigenschaften verändern.</p><p> </p><h2>Einstieg jederzeit 
 möglich!</h2><h2>Flexibel mit der Biolino Blockkarte: www.biolino.at/Blockk
 arte</h2><p>weitere Infos unter: <a href="https://www.biolino.at/spielgrupp
 en/baby-atelier/">Baby-Atelier</a></p><p> </p><p><strong>Sommerspaß 2022:</
 strong></p><p><strong>Juli  2022</strong>  6., 13., 20. und 27.7</p><p><str
 ong>August 2022</strong>  3., 10. 08.</p><p> </p><p>Wir freuen uns auf euch
 !</p><p>Martina und das Biolino Team</p><p> </p><p> </p><p><a href="http://
 www.biolino.at">www.biolino.at</a> <a href="mailto:martina.novak@biolino.at
 ">martina.novak@biolino.at</a></p><p> 0677 628 929 70</p><p>Sandwirtgasse 1
 3/12</p><p>1060 Wien</p>
CONTACT:martina.novak@biolino.at, 067762892970
X-EXTRAINFO:[preis='2000'][anmeldung='true']
DTSTAMP:20260423T171527
DTSTART:20220713T073000
DTEND:20220713T083000
SEQUENCE:0
RRULE:FREQ=WEEKLY;UNTIL=20220811T000000Z;INTERVAL=1;BYDAY=WE
TRANSP:OPAQUE
END:VEVENT
END:VCALENDAR