BEGIN:VCALENDAR
VERSION:2.0
PRODID:-//jEvents 2.0 for Joomla//EN
CALSCALE:GREGORIAN
METHOD:PUBLISH
BEGIN:VEVENT
UID:6a41e93b0ecd05c3e0f43d85c513848a
CATEGORIES:6. Bezirk
CREATED:19700101T010000
SUMMARY:Baby-Cafe
LOCATION:6.\, Sandwirtgasse 13/12
DESCRIPTION:Baby-CaféKaffeehaus-Flair mit KinderspielzeugBei richtig gutem Fair-Trade-K
 affee und leckerem selbstgemachten Bio-Gugelhupf kannst du dich entspannt z
 urücklehnen, deinem Kind beim Spielen in unseren übersichtlichen, kindersic
 heren Räumlichkeiten zusehen und mit anderen Mamas und Papas plaudern.\nWir
  laden dich und dein Kind montags und freitags in unser Biolino Baby-Café (
 https://www.biolino.at/baby-cafe/) ein. Bei biologischem Fair-Trade Kaffee,
  auf Wunsch auch koffeinfrei oder mit Pflanzenmilch, leckerem Bio-Kuchen un
 d österreichischen Bio-Fruchtsäften lässt es sich besonders gut plaudern un
 d spielen. Wir achten bei der Auswahl unserer Holzspielsachen darauf, dass 
 sie frei von Schadstoffen sind und nutzen Bio-Bambus Geschirr von Biobu.\n 
 \nWann: Montag und Freitag   (außer an den schulfreien Tagen)\nUhrzeit:\n9.
 00 - 12.00 Uhr am Montag\n9.00 – 13.30 Uhr am Freitag\nWo: Biolino Institut
 , Sandwirtgasse 13, 1060 Wien\nKosten: € 12,- Eintritt inkl. Bio-Kaffee (od
 er Bio-Tee, Bio-Kakao, Bio-Saft) und Bio-Gugelhupf (oder Bio-Obst) und Spie
 lebeitrag\nNur Barzahlung!\n \nTermine – Sommerspaß 2022\nJuli: 8., 15., 29
 . 07\nAugust: 5., 12.08\nBitte beachte unsere Corona-Hygienemaßnahmen (http
 s://www.biolino.at/home/hygienemaßnahmen/).\nEs gibt Platz für 6-8 Kinderwä
 gen. Bei gutem Wetter kannst du auch im geschützten Innenhof parken. Wenn e
 s dir möglich ist, komm gerne mit deiner Tragehilfe - so haben wir alle meh
 r Platz zum Wohlfühlen.\nWeitere Infos findest du hier: https://www.biolino
 .at/baby-cafe/ (https://www.biolino.at/baby-cafe/)  \n \nSchau vorbei zum S
 pielen und Plaudern.\nIch freue mich auf dich!\nAlles Liebe,\nMartina\n
X-ALT-DESC;FMTTYPE=text/html:<h1>Baby-Café</h1><h2>Kaffeehaus-Flair mit Kinderspielzeug</h2><p><strong>B
 ei richtig gutem Fair-Trade-Kaffee und leckerem selbstgemachten Bio-Gugelhu
 pf kannst du dich entspannt zurücklehnen, deinem Kind beim Spielen in unser
 en übersichtlichen, kindersicheren Räumlichkeiten zusehen und mit anderen M
 amas und Papas plaudern.</strong></p><p>Wir laden dich und dein Kind montag
 s und freitags in unser <a href="https://www.biolino.at/baby-cafe/">Biolino
  Baby-Café</a> ein. Bei biologischem Fair-Trade Kaffee, auf Wunsch auch kof
 feinfrei oder mit Pflanzenmilch, leckerem Bio-Kuchen und österreichischen B
 io-Fruchtsäften lässt es sich besonders gut plaudern und spielen. Wir achte
 n bei der Auswahl unserer Holzspielsachen darauf, dass sie frei von Schadst
 offen sind und nutzen Bio-Bambus Geschirr von Biobu.</p><p> </p><p><strong>
 Wann</strong>: Montag und Freitag   (außer an den schulfreien Tagen)</p><p>
 <strong>Uhrzeit</strong>:</p><p>9.00 - 12.00 Uhr am Montag</p><p>9.00 – 13.
 30 Uhr am Freitag</p><p><strong>Wo</strong>: Biolino Institut, Sandwirtgass
 e 13, 1060 Wien</p><p><strong>Kosten</strong>: € 12,- Eintritt inkl. Bio-Ka
 ffee (oder Bio-Tee, Bio-Kakao, Bio-Saft) und Bio-Gugelhupf (oder Bio-Obst) 
 und Spielebeitrag</p><p>Nur Barzahlung!</p><p> </p><p><strong>Termine – Som
 merspaß 2022</strong></p><p>Juli: 8., 15., 29. 07</p><p>August: 5., 12.08</
 p><p>Bitte beachte unsere Corona-<a href="https://www.biolino.at/home/hygie
 nemaßnahmen/">Hygienemaßnahmen</a>.</p><p>Es gibt Platz für <strong>6-8 Kin
 derwägen</strong>. Bei gutem Wetter kannst du auch im geschützten Innenhof 
 parken. Wenn es dir möglich ist, komm gerne mit deiner Tragehilfe - so habe
 n wir alle mehr Platz zum Wohlfühlen.</p><p>Weitere Infos findest du hier: 
 <a href="https://www.biolino.at/baby-cafe/">https://www.biolino.at/baby-caf
 e/</a>  </p><p> </p><p>Schau vorbei zum Spielen und Plaudern.</p><p>Ich fre
 ue mich auf dich!</p><p>Alles Liebe,</p><p>Martina</p>
CONTACT:martina.novak@biolino.at, 067762892970
X-EXTRAINFO:[preis='1200'][anmeldung='true']
DTSTAMP:20260423T171612
DTSTART:20220708T070000
DTEND:20220708T113000
SEQUENCE:0
RRULE:FREQ=WEEKLY;UNTIL=20220813T000000Z;INTERVAL=1;BYDAY=FR
TRANSP:OPAQUE
END:VEVENT
END:VCALENDAR