BEGIN:VCALENDAR
VERSION:2.0
PRODID:-//jEvents 2.0 for Joomla//EN
CALSCALE:GREGORIAN
METHOD:PUBLISH
BEGIN:VEVENT
UID:b14f43890c2eb9c484573d1353f2e78e
CATEGORIES:6. Bezirk
CREATED:19700101T010000
SUMMARY:Baby-Spielgruppe
LOCATION:6.\, Sandwirtgasse 13/12
DESCRIPTION:Baby-SpielgruppeSpielgruppe und mehr für die Kleinsten Für Kinder von 2 bis
  10 MonatenKursleitung: Conny\nKurstag: Donnerstag\nKurszeit: 09.30 - 10.30
  Uhr\n \nSpielgruppe mit bindungsorientiertem Schwerpunkt\n- freies Spiel m
 it ausgewählten Materialien\n- Kuschel- &amp; Streichelspiele, Lieder\n- je
 de Menge Austausch mit Expertin Conny\nDie Spiel- und Austauschgruppe mit C
 onny ist für Kinder von 2 bis 10 Monaten.\n \nWas erwartet dich?Nach einer 
 sanften Ankommrunde, gibt es die Möglichkeit unsere Baby-Spielmaterialien z
 u entdecken und ausgiebig zu erkunden. Der Schwerpunkt liegt hier, angelehn
 t an M. Montessori und E. Pikler, auf dem freien Spiel. Situationsorientier
 t werden auch Kuschel- und Streichelspiele angeleitet und Lieder gesungen. 
 Dabei wird besonders auf die Stimmung der kleinen Entdeckerinnen und Entdec
 ker geachtet.\nSpielgruppenleiterin Conny, steht dir mit all ihrem Wissen a
 ls Elementarpädagogin, Safe-Mentorin und Mutter zur Verfügung und beantwort
 et gerne all deine Fragen. Es gibt ausreichend Zeit für den Austausch zwisc
 hen den Mamas und Papas.\n \nFür dein Kind...\n... babygerechte, die Sinne 
 ansprechende Spielmaterialien,\n... erste Kontakte mit anderen Kindern,\n..
 . situationsorientiert auch Kuschel- und Streichelspiele oder Lieder.\n \nF
 ür dich...\n... neue Spielideen für dich und dein Kind,\n... fundiertes Wis
 sen zu allen Themen rund um das Babyalter,\n... Raum für Vernetzung, Austau
 sch und Fragen.\n \nEinstieg jederzeit möglich!Flexibel mit der Biolino Blo
 ckkarte: www.biolino.at/Blockkarte (http://www.biolino.at/Blockkarte)weiter
 e Infos unter: https://www.biolino.at/spielgruppen/baby-spielgruppe/ (https
 ://www.biolino.at/spielgruppen/baby-spielgruppe/)\n \nSommerspaß 2022:\nJul
 i  2022 7., 14., 21., 18.07\n \nWir freuen uns auf euch!\nMartina und das B
 iolino Team\n \n \nwww.biolino.at (http://www.biolino.at) martina.novak@bio
 lino.at (mailto:martina.novak@biolino.at)\n 0677 628 929 70\nSandwirtgasse 
 13/12\n1060 Wien\n
X-ALT-DESC;FMTTYPE=text/html:<h1>Baby-Spielgruppe</h1><h2>Spielgruppe und mehr für die Kleinsten</h2><h2
 > </h2><h3>Für Kinder von 2 bis 10 Monaten</h3><p><strong>Kursleitung</stro
 ng>: Conny</p><p><strong>Kurstag</strong>: Donnerstag</p><p><strong>Kurszei
 t</strong>: 09.30 - 10.30 Uhr</p><p> </p><p><strong>Spielgruppe mit bindung
 sorientiertem Schwerpunkt</strong></p><p>- freies Spiel mit ausgewählten Ma
 terialien</p><p>- Kuschel- &amp; Streichelspiele, Lieder</p><p>- jede Menge
  Austausch mit Expertin Conny</p><p>Die Spiel- und Austauschgruppe mit Conn
 y ist für Kinder von 2 bis 10 Monaten.</p><p> </p><h3>Was erwartet dich?</h
 3><p>Nach einer sanften Ankommrunde, gibt es die Möglichkeit unsere Baby-<s
 trong>Spielmaterialien</strong> zu entdecken und ausgiebig zu erkunden. Der
  Schwerpunkt liegt hier, angelehnt an M. <strong>Montessori</strong> und E.
  <strong>Pikler</strong>, auf dem <strong>freien Spiel. Situationsorientier
 t</strong> werden auch <strong>Kuschel- und Streichelspiele</strong> angele
 itet und <strong>Lieder</strong> gesungen. Dabei wird besonders auf die Sti
 mmung der kleinen Entdeckerinnen und Entdecker geachtet.</p><p>Spielgruppen
 leiterin Conny, steht dir mit all ihrem Wissen als Elementarpädagogin, Safe
 -Mentorin und Mutter zur Verfügung und beantwortet gerne all deine Fragen. 
 Es gibt ausreichend Zeit für den Austausch zwischen den Mamas und Papas.</p
 ><p> </p><p><strong>Für dein Kind...</strong></p><p>... babygerechte, die S
 inne ansprechende Spielmaterialien,</p><p>... erste Kontakte mit anderen Ki
 ndern,</p><p>... situationsorientiert auch Kuschel- und Streichelspiele ode
 r Lieder.</p><p> </p><p><strong>Für dich...</strong></p><p>... neue Spielid
 een für dich und dein Kind,</p><p>... fundiertes Wissen zu allen Themen run
 d um das Babyalter,</p><p>... Raum für Vernetzung, Austausch und Fragen.</p
 ><p> </p><h2>Einstieg jederzeit möglich!</h2><h2>Flexibel mit der Biolino B
 lockkarte: <a href="http://www.biolino.at/Blockkarte">www.biolino.at/Blockk
 arte</a></h2><p>weitere Infos unter: <a href="https://www.biolino.at/spielg
 ruppen/baby-spielgruppe/">https://www.biolino.at/spielgruppen/baby-spielgru
 ppe/</a></p><p> </p><p><strong>Sommerspaß 2022:</strong></p><p><strong>Juli
   2022</strong> 7., 14., 21., 18.07</p><p> </p><p>Wir freuen uns auf euch!<
 /p><p>Martina und das Biolino Team</p><p> </p><p> </p><p><a href="http://ww
 w.biolino.at">www.biolino.at</a> <a href="mailto:martina.novak@biolino.at">
 martina.novak@biolino.at</a></p><p> 0677 628 929 70</p><p>Sandwirtgasse 13/
 12</p><p>1060 Wien</p>
CONTACT:martina.novak@biolino.at, 067762892970
X-EXTRAINFO:[preis='2000'][anmeldung='true']
DTSTAMP:20260423T185111
DTSTART:20220707T073000
DTEND:20220707T083000
SEQUENCE:0
RRULE:FREQ=WEEKLY;UNTIL=20220729T000000Z;INTERVAL=1;BYDAY=TH
TRANSP:OPAQUE
END:VEVENT
END:VCALENDAR