BEGIN:VCALENDAR
VERSION:2.0
PRODID:-//jEvents 2.0 for Joomla//EN
CALSCALE:GREGORIAN
METHOD:PUBLISH
BEGIN:VEVENT
UID:3241336cadc8a5b4b16d393f856501f3
CATEGORIES:3. Bezirk
CREATED:20220531T083546
SUMMARY:Lustvoll Trotzen
LOCATION: LieblingsMAMA Praxis: Apostelgasse 29-31/1/9
DESCRIPTION:Lustvoll TrotzenAuthentische Begleitung von starken Gefühlen und der körper
 lichen Entwicklung von Kindern zwischen 1- 6 Jahren.\nDein Kind ist wütend,
  traurig, glücklich und dass alles innerhalb von Minuten? Du liebst dein Ki
 nd, aber manchmal läuft einfach alles aus dem Ruder und du weißt selbst nic
 ht mehr wohin mit deiner Emotion? Und was hat das jetzt mit kindlicher sexu
 eller Entwicklung zu tun?\nÜberschäumende Freude und unbändige Wut liegen g
 anz nah beisammen. So ein Gefühlsausbruch fordert ganz schön viel – und zwa
 r von allen Beteiligten. Das Erlernen und Einordnen von Gefühlen ist eine w
 ichtige Prävention vor sexuellen Übergriffen. Ziel ist es, Kindern eine Spr
 ache für ihren Körper zu geben. Sie sollen angenehme von unangenehmen Berüh
 rungen und gute von schlechten Gefühlen unterscheiden können. Dafür braucht
  es nicht „das Aufklärungsgespräch“, sondern eine offene und neugierige Hal
 tung deinem Kind gegenüber.\nWir richten den Blick auf eure ureigenen Werte
  und zeigen euch wie das Bewusstsein darüber für Entlastung sorgen kann.\nN
 ach diesem Nachmittag …\n… erhältst du wichtigen Input zur Autonomiephase\n
 … lernst du Strategien für den Umgang mit dieser herausfordernden Zeit\n… g
 ewinnst du einen Einblick in die kindliche sexuelle Entwicklung\n… lernst d
 u Do’s and Dont’s zu dieser Altersgruppe\n… geben wir dir praktische und th
 eoretische Tipps\nOn top erhältst du:\n… maßgeschneiderte Handlungswerkzeug
 e für den Alltag in deiner Familie\n… Mut und Sicherheit mit dem Thema Sexu
 alität\n… eine umfangreiche Bücherliste für Kinder\n… einen Mutmacher für z
 u Hause\n \nWir freuen uns auf Austausch und eure persönlichen Erfahrungen.
  In einem geschützten Rahmen gehen wir auf jede Familiensituationen individ
 uell ein.\n \nIn Kooperation mit der wunderbaren Tamara Felbinger, BA: Sexu
 alpädagogin.\nwww.tamara-felbinger.at (https://www.tamara-felbinger.at)
X-ALT-DESC;FMTTYPE=text/html:<div id="block-yui_3_17_2_1_1626679657289_119496" class="sqs-block html-blo
 ck sqs-block-html" data-block-type="2"><div class="sqs-block-content"><h4 s
 tyle="white-space: pre-wrap;">Lustvoll Trotzen</h4><p class="sqsrte-large" 
 style="white-space: pre-wrap;">Authentische Begleitung von starken Gefühlen
  und der körperlichen Entwicklung von Kindern zwischen 1- 6 Jahren.</p><p c
 lass="" style="white-space: pre-wrap;">Dein Kind ist wütend, traurig, glück
 lich und dass alles innerhalb von Minuten? Du liebst dein Kind, aber manchm
 al läuft einfach alles aus dem Ruder und du weißt selbst nicht mehr wohin m
 it deiner Emotion? Und was hat das jetzt mit kindlicher sexueller Entwicklu
 ng zu tun?</p><p class="" style="white-space: pre-wrap;">Überschäumende Fre
 ude und unbändige Wut liegen ganz nah beisammen. So ein Gefühlsausbruch for
 dert ganz schön viel – und zwar von allen Beteiligten. Das Erlernen und Ein
 ordnen von Gefühlen ist eine wichtige Prävention vor sexuellen Übergriffen.
  Ziel ist es, Kindern eine Sprache für ihren Körper zu geben. Sie sollen an
 genehme von unangenehmen Berührungen und gute von schlechten Gefühlen unter
 scheiden können. Dafür braucht es nicht „das Aufklärungsgespräch“, sondern 
 eine offene und neugierige Haltung deinem Kind gegenüber.</p><p class="" st
 yle="white-space: pre-wrap;">Wir richten den Blick auf eure ureigenen Werte
  und zeigen euch wie das Bewusstsein darüber für Entlastung sorgen kann.</p
 ><p class="sqsrte-large" style="white-space: pre-wrap;">Nach diesem Nachmit
 tag …</p><p class="" style="white-space: pre-wrap;">… erhältst du wichtigen
  Input zur Autonomiephase</p><p class="" style="white-space: pre-wrap;">… l
 ernst du Strategien für den Umgang mit dieser herausfordernden Zeit</p><p c
 lass="" style="white-space: pre-wrap;">… gewinnst du einen Einblick in die 
 kindliche sexuelle Entwicklung</p><p class="" style="white-space: pre-wrap;
 ">… lernst du Do’s and Dont’s zu dieser Altersgruppe</p><p class="" style="
 white-space: pre-wrap;">… geben wir dir praktische und theoretische Tipps</
 p><p class="" style="white-space: pre-wrap;"><strong>On top erhältst du:</s
 trong></p><p class="" style="white-space: pre-wrap;">… maßgeschneiderte Han
 dlungswerkzeuge für den Alltag in deiner Familie</p><p class="" style="whit
 e-space: pre-wrap;">… Mut und Sicherheit mit dem Thema Sexualität</p><p cla
 ss="" style="white-space: pre-wrap;">… eine umfangreiche Bücherliste für Ki
 nder</p><p class="" style="white-space: pre-wrap;">… einen Mutmacher für zu
  Hause</p><p class="" style="white-space: pre-wrap;" data-rte-preserve-empt
 y="true"> </p><p class="" style="white-space: pre-wrap;">Wir freuen uns auf
  Austausch und eure persönlichen Erfahrungen. In einem geschützten Rahmen g
 ehen wir auf jede Familiensituationen individuell ein.</p><p class="" style
 ="white-space: pre-wrap;"> </p><h4 style="white-space: pre-wrap;">In Kooper
 ation mit der wunderbaren Tamara Felbinger, BA: Sexualpädagogin.<br /><a hr
 ef="https://www.tamara-felbinger.at" target="_blank" rel="noopener noreferr
 er">www.tamara-felbinger.at</a></h4></div></div>
CONTACT:Sabine Grasmuk-Siegl, MSc Familienberaterin, Psychologische Beraterin, https://www.lieblingsmama.at/spezialangebote
X-EXTRAINFO:[preis='12400'][anmeldung='true']
DTSTAMP:20260423T231929
DTSTART:20220613T143000
DTEND:20220613T180000
SEQUENCE:0
TRANSP:OPAQUE
END:VEVENT
END:VCALENDAR