BEGIN:VCALENDAR
VERSION:2.0
PRODID:-//jEvents 2.0 for Joomla//EN
CALSCALE:GREGORIAN
METHOD:PUBLISH
BEGIN:VEVENT
UID:46b12f0ac586ae4b44c13459168500a3
CATEGORIES:3. Bezirk
CREATED:20220531T083807
SUMMARY:GeburtsNACHbereitung
LOCATION:LieblingsMAMA Praxis: Apostelgasse 29-31/1/9
DESCRIPTION:GeburtsNACHbereitungWir widmen uns dir und deiner individuellen Geschichte.
  Egal wie lange die Geburt zurück liegt.\nEin Erlebnis, das mit nichts zu v
 ergleichen ist: Die Geburt deines Kindes. \nGeknüpft an so viele Erinnerung
 en und Emotionen. Über ein so bedeutendes Erlebnis ist es wert zu sprechen.
  Für dich, für andere Mamas und für dein Kind.\nHast du schon über deine Ge
 burt gesprochen? \nSie in eigene Worte gefasst? \nSie angenommen, akzeptier
 t, deine Leistung gewürdigt?\nBei diesem Workshop schauen wir gemeinsam noc
 heinmal genau hin. Wir widmen uns dem Schönen, dem Herausfordernden, dem Em
 otionalen. Wir widmen uns DIR und deiner Geschichte.\nAm Ende des Workshops
  . . .\n… hast du deine Geburt visualisiert\n… hast du dich mit jedem Absch
 nitt deiner Geburt auseinandergesetzt\n… hat Schönes und Belastendes seinen
  Platz in deiner Geburtsgeschichte gefunden\n… hast du einen wohlwollenden,
  anerkennenden Blick auf dich und deine Leistung\n… kreierst du dein persön
 liches Symbol für deine Geburtsgeschichte\nAufgrund der Intimität des Works
 hops gibt es nur eine sehr limitierte Teilnehmerinnenzahl (max. 3 Teilnehme
 rInnen*!). Damit möchten wir gewährleisten, dass jede von euch, den Raum be
 kommt, den sie benötigt.\nIn Kooperation mit der wunderbaren Mag. Martina N
 ovak: Pädagogin und Sonder- &amp; Heilpädagogin, Mal- und Gestaltungstherap
 eutin.\nwww.biolino.at (https://l.facebook.com/l.php?u=http%3A%2F%2Fwww.bio
 lino.at%2F%3Ffbclid%3DIwAR30h9IOZk7DYVODNSSOegvTkhNsi63e8xMT8kBunDyl6WS7ybx
 Cq0vhCTU&amp;h=AT2pW9yAUu1n9HPyK-v9siHKGQkUkgjsNQJWf31Fo21eENKo8PA_wSnww-Bq
 wmT_c1BQ5tP_mG1lI8bg7qq8Ao8pwCXusiOK-O0yAf3AitrvwMqC8RFeVRhMMa8Wq-xqU2IuEjM
 YK6PYHTN-Yclr&amp;__tn__=q&amp;c[0]=AT2B4NDI5tryTIPY2UJgyW-PNbzqefDBDPkIhlI
 QEy2uUyqWQ443V9VLUTZnqxnnyM7rKt_Xt1untWLA5A12yCyVUpx_O2pyWQ9JYvLgcfhlQuKPnP
 _j8qRS-1HTmGGTideDXPFo27LploBRpqYvgy5xUoXEdTCMezAbRyLUJuUwwFs6gA) Sie begle
 itet deine Kinder, damit du von deiner Geburt erzählen kannst.
X-ALT-DESC;FMTTYPE=text/html:<div id="block-yui_3_17_2_1_1626679657289_174328" class="sqs-block html-blo
 ck sqs-block-html" data-block-type="2"><div class="sqs-block-content"><h4 s
 tyle="white-space: pre-wrap;">GeburtsNACHbereitung</h4><p class="sqsrte-lar
 ge" style="white-space: pre-wrap;">Wir widmen uns dir und deiner individuel
 len Geschichte. Egal wie lange die Geburt zurück liegt.</p><p class="" styl
 e="white-space: pre-wrap;">Ein Erlebnis, das mit nichts zu vergleichen ist:
  Die Geburt deines Kindes. <br />Geknüpft an so viele Erinnerungen und Emot
 ionen. Über ein so bedeutendes Erlebnis ist es wert zu sprechen. Für dich, 
 für andere Mamas und für dein Kind.</p><p class="" style="white-space: pre-
 wrap;">Hast du schon über deine Geburt gesprochen? <br />Sie in eigene Wort
 e gefasst? <br />Sie angenommen, akzeptiert, deine Leistung gewürdigt?</p><
 p class="" style="white-space: pre-wrap;">Bei diesem Workshop schauen wir g
 emeinsam nocheinmal genau hin. Wir widmen uns dem Schönen, dem Herausforder
 nden, dem Emotionalen. Wir widmen uns DIR und deiner Geschichte.</p><p clas
 s="sqsrte-large" style="white-space: pre-wrap;">Am Ende des Workshops . . .
 </p><p class="" style="white-space: pre-wrap;">… hast du deine Geburt visua
 lisiert</p><p class="" style="white-space: pre-wrap;">… hast du dich mit je
 dem Abschnitt deiner Geburt auseinandergesetzt</p><p class="" style="white-
 space: pre-wrap;">… hat Schönes und Belastendes seinen Platz in deiner Gebu
 rtsgeschichte gefunden</p><p class="" style="white-space: pre-wrap;">… hast
  du einen wohlwollenden, anerkennenden Blick auf dich und deine Leistung</p
 ><p class="" style="white-space: pre-wrap;">… kreierst du dein persönliches
  Symbol für deine Geburtsgeschichte</p><p class="sqsrte-small" style="white
 -space: pre-wrap;"><em>Aufgrund der Intimität des Workshops gibt es nur ein
 e sehr limitierte Teilnehmerinnenzahl (max. 3 TeilnehmerInnen*!). Damit möc
 hten wir gewährleisten, dass jede von euch, den Raum bekommt, den sie benöt
 igt.</em></p><h4 style="white-space: pre-wrap;">In Kooperation mit der wund
 erbaren Mag. Martina Novak: Pädagogin und Sonder- &amp; Heilpädagogin, Mal-
  und Gestaltungstherapeutin.<br /><a href="https://l.facebook.com/l.php?u=h
 ttp%3A%2F%2Fwww.biolino.at%2F%3Ffbclid%3DIwAR30h9IOZk7DYVODNSSOegvTkhNsi63e
 8xMT8kBunDyl6WS7ybxCq0vhCTU&amp;h=AT2pW9yAUu1n9HPyK-v9siHKGQkUkgjsNQJWf31Fo
 21eENKo8PA_wSnww-BqwmT_c1BQ5tP_mG1lI8bg7qq8Ao8pwCXusiOK-O0yAf3AitrvwMqC8RFe
 VRhMMa8Wq-xqU2IuEjMYK6PYHTN-Yclr&amp;__tn__=q&amp;c[0]=AT2B4NDI5tryTIPY2UJg
 yW-PNbzqefDBDPkIhlIQEy2uUyqWQ443V9VLUTZnqxnnyM7rKt_Xt1untWLA5A12yCyVUpx_O2p
 yWQ9JYvLgcfhlQuKPnP_j8qRS-1HTmGGTideDXPFo27LploBRpqYvgy5xUoXEdTCMezAbRyLUJu
 UwwFs6gA" target="_blank" rel="noopener noreferrer">www.biolino.at</a> Sie 
 begleitet deine Kinder, damit du von deiner Geburt erzählen kannst.</h4></d
 iv></div>
CONTACT:Sabine Grasmuk-Siegl, MSc Familienberaterin, Psychologische Beraterin, https://www.lieblingsmama.at/spezialangebote
X-EXTRAINFO:[preis='13300'][anmeldung='false']
DTSTAMP:20260423T231929
DTSTART:20220621T071500
DTEND:20220621T100000
SEQUENCE:0
TRANSP:OPAQUE
END:VEVENT
END:VCALENDAR