BEGIN:VCALENDAR
VERSION:2.0
PRODID:-//jEvents 2.0 for Joomla//EN
CALSCALE:GREGORIAN
METHOD:PUBLISH
BEGIN:VEVENT
UID:06c56995da75ab8352915da2e5cd6166
CATEGORIES:3. Bezirk
CREATED:20220531T084045
SUMMARY:Die familiäre Babymassage - Von nun an verbunden
LOCATION:LieblingsMAMA Praxis: Apostelgasse 29-31/1/9
DESCRIPTION:Die familiäre BabymassageVon nun an verbundenWerte, Rituale, Erinnerungen; 
 praktische Handlungswerkzeuge für euch als Familie und angeleitete Babymass
 age\nIn diesem Paarkurs erwartet euch professionell angeleitete Babymassage
 , praktische und maßgeschneiderte Handwekzeuge für den Alltag als Familie s
 owie ein exklusives Workbook.\nIn jeder Einheit erwarten euch individuell a
 ufbauende Inhalte, Anleitungen und Tipps:\nAm Ende des Kurses ….\n…kennt ih
 r die Signale eures Babys und könnt adäquat auf diese eingehen.\n… kennt ih
 r wichtige Massagetechniken (entspannende, belebende, Koliken lindernde)  u
 nd könnt diese bei eurem Baby anwenden.\n… habt ihr euch mit euren Idealvor
 stellungen und Wertebildern von „guten“ Eltern auseinander gesetzt, wisst w
 elche Eltern ihr sein möchtet und was ihr dazu braucht.\n… bekommt ihr Anre
 gungen für neue Familienrituale und kreiert eure eigenen Traditionen.\n… en
 twickelt ihr eure eigenen „Bonding-to-Go Kniffe“ und könnt diese im Alltag 
 einsetzen.\n Wann:AM\nFreitag, 22. Juli 2022\n15.30 – 17.00 Uhr\nUND\nFreit
 ag, 29. Juli 2022\n15.30-17.00\nIn Kooperation mit der wunderbaren Andrea S
 ulzmann: Babymassagekursleiterin, \nPrä- &amp; Postnatale Trainerin, \nwww.
 diebabypause.com (https://www.diebabypause.com)
X-ALT-DESC;FMTTYPE=text/html:<div id="block-75f554d1e33b19fb15d5" class="sqs-block html-block sqs-block-
 html" data-block-type="2"><div class="sqs-block-content"><h4 style="white-s
 pace: pre-wrap;">Die familiäre Babymassage</h4><h3 style="white-space: pre-
 wrap;"><span class="sqsrte-text-color--black">Von nun an verbunden</span></
 h3><p class="sqsrte-large" style="white-space: pre-wrap;">Werte, Rituale, E
 rinnerungen; praktische Handlungswerkzeuge für euch als Familie und angelei
 tete Babymassage</p><p class="" style="white-space: pre-wrap;">In diesem Pa
 arkurs erwartet euch professionell angeleitete Babymassage, praktische und 
 maßgeschneiderte Handwekzeuge für den Alltag als Familie sowie ein exklusiv
 es Workbook.</p><p class="" style="white-space: pre-wrap;">In jeder Einheit
  erwarten euch individuell aufbauende Inhalte, Anleitungen und Tipps:</p><p
  class="sqsrte-large" style="white-space: pre-wrap;">Am Ende des Kurses ….<
 /p><p class="" style="white-space: pre-wrap;">…kennt ihr die Signale eures 
 Babys und könnt adäquat auf diese eingehen.</p><p class="" style="white-spa
 ce: pre-wrap;">… kennt ihr wichtige Massagetechniken (entspannende, beleben
 de, Koliken lindernde)  und könnt diese bei eurem Baby anwenden.</p><p clas
 s="" style="white-space: pre-wrap;">… habt ihr euch mit euren Idealvorstell
 ungen und Wertebildern von „guten“ Eltern auseinander gesetzt, wisst welche
  Eltern ihr sein möchtet und was ihr dazu braucht.</p><p class="" style="wh
 ite-space: pre-wrap;">… bekommt ihr Anregungen für neue Familienrituale und
  kreiert eure eigenen Traditionen.</p><p class="" style="white-space: pre-w
 rap;">… entwickelt ihr eure eigenen „Bonding-to-Go Kniffe“ und könnt diese 
 im Alltag einsetzen.</p></div></div><div id="block-0c37268029e89e98ffe7" cl
 ass="sqs-block spacer-block sqs-block-spacer sized vsize-1" data-block-type
 ="21"> </div><div class="row sqs-row"><div class="col sqs-col-3 span-3"><di
 v id="block-f3b451ee5796aa72fa11" class="sqs-block html-block sqs-block-htm
 l" data-block-type="2"><div class="sqs-block-content"><h4 style="white-spac
 e: pre-wrap;">Wann:</h4><p class="sqsrte-large" style="white-space: pre-wra
 p;"><strong>AM</strong><br />Freitag, 22. Juli 2022<br />15.30 – 17.00 Uhr<
 /p><p class="sqsrte-large" style="white-space: pre-wrap;"><strong>UND</stro
 ng><br />Freitag, 29. Juli 2022<br />15.30-17.00</p><h4 style="white-space:
  pre-wrap;">In Kooperation mit der wunderbaren Andrea Sulzmann: Babymassage
 kursleiterin, <br />Prä- &amp; Postnatale Trainerin, <br /><a href="https:/
 /www.diebabypause.com">www.diebabypause.com</a></h4></div></div></div></div
 >
CONTACT:Sabine Grasmuk-Siegl, MSc Familienberaterin, Psychologische Beraterin, https://www.lieblingsmama.at/spezialangebote
X-EXTRAINFO:[preis='22100'][anmeldung='true']
DTSTAMP:20260423T234026
DTSTART:20220722T133000
DTEND:20220729T150000
SEQUENCE:0
TRANSP:OPAQUE
END:VEVENT
END:VCALENDAR