BEGIN:VCALENDAR
VERSION:2.0
PRODID:-//jEvents 2.0 for Joomla//EN
CALSCALE:GREGORIAN
METHOD:PUBLISH
BEGIN:VEVENT
UID:1e056988454884bd6cfb0e544f1bc62b
CATEGORIES:2. Bezirk
CREATED:20220531T093947
SUMMARY:Mamma Papa Mia
LOCATION:Das MuTh - Konzertsaal\, Bühne&amp; Programm\, Am Augartenspitz 1\, 1020 Wi
 en
DESCRIPTION:Gemeinsames Singen für werdende Eltern und Familien mit Babys und Kleinkind
 ernGemeinsames Singen beruhigt und stärkt Beziehungen sowie das Vertrauen. 
 Außerdem fördern Gesangsübungen das Körperbewusstsein und verbessern die At
 mung. Und das Beste ist, Singen kann jeder, findet Gesangspädagogin Giti Hu
 ber. Sie verfügt über jahrelange Erfahrung mit Sing-Neulingen, unter andere
 m durch ihre Tätigkeit beim „1. Wiener ich kann nicht singen Chor“. Mit ein
 fachen Übungen sorgt sie dafür, dass man schnell die Scheu vergisst und Fre
 ude am Singen entdeckt.\n \nBei MAMMA PAPA MIA lernen werdende und frischge
 backene Eltern in mehreren Programmen Wiegen- und Kinderlieder, die von Moz
 art über Lalelu bis hin zu lateinamerikanischer Volksmusik reichen. Begleit
 et von einem kleinen Ensemble werden moderne Lieder zum Baden, Zähne putzen
  oder Trösten gesungen, die den Alltag mit Kindern erleichtern und spannend
 er gestalten. Deshalb sind auch Tanten, Onkel, Großeltern und Freundinnen u
 nd Freunde herzlich zum Mitsingen eingeladen. Auch Geschwisterkinder dürfen
  bei MAMMA PAPA MIA einen Raum voller Musik erleben. Sogar ungeborene Kinde
 r hören schon mit und werden die Melodien auch später noch mit der Geborgen
 heit im Mutterleib verbinden. Gerade in der Schwangerschaft ist Singen dahe
 r eine Bereicherung für Mutter und Kind.\n \nZum Abschluss dürfen Sie sich 
 zurücklehnen und werden mit einem kleinen und abwechslungsreichen Konzert b
 elohnt.\n \nKartenpreise:\nfür ein Kind und eine/n Erwachsene/n | 22,00 €\n
 je weitere/s Kind oder Familienmitglied | 9,00 €\nTickets und mehr Informat
 ionen unter https://muth.at/programm/mamma-papa-mia-2022-06-25/ (https://mu
 th.at/programm/mamma-papa-mia-2022-06-25/). Tickets erhältlich online, per 
 E-Mail unter tickets@muth.at (mailto:tickets@muth.at) oder telefonisch unte
 r 01 347 80 80.\n
X-ALT-DESC;FMTTYPE=text/html:<h2>Gemeinsames Singen für werdende Eltern und Familien mit Babys und Klein
 kindern</h2><p>Gemeinsames Singen beruhigt und stärkt Beziehungen sowie das
  Vertrauen. Außerdem fördern Gesangsübungen das Körperbewusstsein und verbe
 ssern die Atmung. Und das Beste ist, Singen kann jeder, findet Gesangspädag
 ogin Giti Huber. Sie verfügt über jahrelange Erfahrung mit Sing-Neulingen, 
 unter anderem durch ihre Tätigkeit beim „1. Wiener ich kann nicht singen Ch
 or“. Mit einfachen Übungen sorgt sie dafür, dass man schnell die Scheu verg
 isst und Freude am Singen entdeckt.</p><p> </p><div class="detail-termin-lo
 ngtext"><p>Bei MAMMA PAPA MIA lernen werdende und frischgebackene Eltern in
  mehreren Programmen Wiegen- und Kinderlieder, die von Mozart über Lalelu b
 is hin zu lateinamerikanischer Volksmusik reichen. Begleitet von einem klei
 nen Ensemble werden moderne Lieder zum Baden, Zähne putzen oder Trösten ges
 ungen, die den Alltag mit Kindern erleichtern und spannender gestalten. Des
 halb sind auch Tanten, Onkel, Großeltern und Freundinnen und Freunde herzli
 ch zum Mitsingen eingeladen. Auch Geschwisterkinder dürfen bei MAMMA PAPA M
 IA einen Raum voller Musik erleben. Sogar ungeborene Kinder hören schon mit
  und werden die Melodien auch später noch mit der Geborgenheit im Mutterlei
 b verbinden. Gerade in der Schwangerschaft ist Singen daher eine Bereicheru
 ng für Mutter und Kind.</p><p> </p><p>Zum Abschluss dürfen Sie sich zurückl
 ehnen und werden mit einem kleinen und abwechslungsreichen Konzert belohnt.
 </p><p> </p><p>Kartenpreise:</p><p>für ein Kind und eine/n Erwachsene/n <sp
 an class="detail-termin-price-name">| </span>22,00 €</p><p>je weitere/s Kin
 d oder Familienmitglied <span class="detail-termin-price-name">| </span>9,0
 0 €</p><p>Tickets und mehr Informationen unter <a href="https://muth.at/pro
 gramm/mamma-papa-mia-2022-06-25/">https://muth.at/programm/mamma-papa-mia-2
 022-06-25/</a>. Tickets erhältlich online, per E-Mail unter <a href="mailto
 :tickets@muth.at">tickets@muth.at</a> oder telefonisch unter 01 347 80 80.<
 /p></div>
CONTACT:tickets@muth.at oder 01 347 80 80
X-EXTRAINFO:[preis='2200'][anmeldung='false']
DTSTAMP:20260423T202403
DTSTART:20220625T130000
DTEND:20220625T140000
SEQUENCE:0
TRANSP:OPAQUE
END:VEVENT
END:VCALENDAR