BEGIN:VCALENDAR
VERSION:2.0
PRODID:-//jEvents 2.0 for Joomla//EN
CALSCALE:GREGORIAN
METHOD:PUBLISH
BEGIN:VEVENT
UID:17997c918c92d967439fc4db0a54cc61
CATEGORIES:3. Bezirk
CREATED:19700101T010000
SUMMARY:Austauschgruppe Schwangerentreff
LOCATION:LieblingsMAMA Praxis: Apostelgasse 29-31/1/9
DESCRIPTION:Austauschgruppe für Schwangere mit wöchentlichen Themen und Fachinput von d
 er Schwangerschaft bis zum Wochenbett\nDu bist schwanger und wünschst dir n
 eue Kontakte &amp; Austausch mit anderen Bald-Mamis? \nDann bist du bei Lie
 blingsMAMA genau richtig!\nIn gemütlicher Atmosphäre gibt es viel Raum für 
 Fragen, Inputs, Tipps und alles was dich momentan bewegt sowie wöchentlich 
 wechselnde Themenschwerpukte und Fachwissen zur Vorbereitung auf Geburt und
  frühe Elternschaft.\nÜber mehrere Wochen hinweg, begleite ich euch einfühl
 sam durch eure Schwangerschaft. Ich als Mama und Familienberaterin lege gro
 ßen Wert darauf, euch einen geschützten, intimen Rahmen zu schaffen, in dem
  all eure Sorgen, Fragen, Ängste und Vorfreuden Platz finden.\nAnmeldung un
 ter: https://www.lieblingsmama.at/spezialangebote\n
X-ALT-DESC;FMTTYPE=text/html:<p class="" style="white-space: pre-wrap;"><strong>Austauschgruppe für Schw
 angere mit wöchentlichen Themen und Fachinput von der Schwangerschaft bis z
 um Wochenbett</strong></p><p class="" style="white-space: pre-wrap;">Du bis
 t schwanger und wünschst dir neue Kontakte &amp; Austausch mit anderen Bald
 -Mamis? <br />Dann bist du bei LieblingsMAMA genau richtig!</p><p class="" 
 style="white-space: pre-wrap;">In gemütlicher Atmosphäre gibt es viel Raum 
 für Fragen, Inputs, Tipps und alles was dich momentan bewegt sowie wöchentl
 ich wechselnde Themenschwerpukte und Fachwissen zur Vorbereitung auf Geburt
  und frühe Elternschaft.</p><p class="" style="white-space: pre-wrap;">Über
  mehrere Wochen hinweg, begleite ich euch einfühlsam durch eure Schwangersc
 haft. Ich als Mama und Familienberaterin lege großen Wert darauf, euch eine
 n geschützten, intimen Rahmen zu schaffen, in dem all eure Sorgen, Fragen, 
 Ängste und Vorfreuden Platz finden.</p><p class="" style="white-space: pre-
 wrap;">Anmeldung unter: https://www.lieblingsmama.at/spezialangebote</p>
CONTACT:Sabine Grasmuk-Siegl, MSc Familienberaterin, Psychologische Beraterin, https://www.lieblingsmama.at/spezialangebote
X-EXTRAINFO:[preis='14600'][anmeldung='true']
DTSTAMP:20260423T215934
DTSTART:20220705T073000
DTEND:20220802T090000
SEQUENCE:0
RRULE:FREQ=WEEKLY;UNTIL=20220803T000000Z;INTERVAL=1;BYDAY=TU
TRANSP:OPAQUE
END:VEVENT
END:VCALENDAR