BEGIN:VCALENDAR
VERSION:2.0
PRODID:-//jEvents 2.0 for Joomla//EN
CALSCALE:GREGORIAN
METHOD:PUBLISH
BEGIN:VEVENT
UID:28471af04521fb0e74a4190ebad28124
CATEGORIES:3. Bezirk
CREATED:19700101T010000
SUMMARY:SCHWANGEREN YOGA im PARK 
LOCATION:Arenbergpark\, 1030 Wien 
DESCRIPTION:<p><strong>Schwangeren Yoga im PARK <br /></strong></p><p><strong>Start: 13
 .06.22</strong></p><p>Yoga ist eine wunderbare Art den Körper sanft an neue
  Situationen zu gewöhnen. Wir lösen damit Verspannungen im Rücken und Nacke
 n und die gezielten Asanas und Atemübungen sind auch eine gute Geburtsvorbe
 reitung. Dein Körper schöpft somit Energie für die Geburt.</p><p>Wir stärke
 n und dehnen den Beckenboden. Es ist auch für Anfängerinnen geeignet!</p><p
 >Du kannst vom Alltag abschalten, und dich mit anderen Mamis austauschen.</
 p><p>Kursleiterin Julia ist 2-fache Mama, Yogalehrerin für Schwangeren Yoga
  und Mama Baby Yoga und unterrichtet mit viel Feingefühl und Verständnis.</
 p><p><strong>WO: ARENBERGPARK auf der großen Wiese, 1030 WIEN</strong></p><
 p>Bitte nimm eine Yogamatte mit.</p><p>Bei Schlechtwetter findet die Einhei
 t ONLINE interaktiv über Zoom statt.</p><p> </p><p>Siehe dir auch meine Web
 seite an: <strong>www.yogapalace.at</strong></p><p> </p><p>Ich freue mich s
 chon auf dich</p>
CONTACT:julia_yoga@posteo.at
X-EXTRAINFO:[preis='1500'][anmeldung='true']
DTSTAMP:20260423T233342
DTSTART:20220613T080000
DTEND:20220613T090000
SEQUENCE:0
RRULE:FREQ=WEEKLY;UNTIL=20220712T000000Z;INTERVAL=1;BYDAY=MO
TRANSP:OPAQUE
END:VEVENT
END:VCALENDAR