BEGIN:VCALENDAR
VERSION:2.0
PRODID:-//jEvents 2.0 for Joomla//EN
CALSCALE:GREGORIAN
METHOD:PUBLISH
BEGIN:VEVENT
UID:dadca7633b6ba10e704290c566c5c988
CATEGORIES:18. Bezirk
CREATED:19700101T010000
SUMMARY:Sinnesspielgruppe für Kleinstkinder
LOCATION:Spielringel\, Mollgasse 11-13
DESCRIPTION:Sinnesspielgruppe für Kleinstkindervon ca. 10 Monaten bis 2 Jahre Start:  2
 3.06.2022\nMit: Claudia (https://spielringel.at/angebote/das-team/claudia)\
 nKurstag:  Donnerstag 09:30-10:30\nTermine:  23.06., 30.06., 07.07., 14.07.
 , 21.07.\nKosten:  €75,- (5-Wochen Kurs)\nDer Mensch ist eine Sonne, seine 
 Sinne sind seine Planeten.\n Novalis\nIn unserer Sinnesspielgruppe entdecke
 n die Kinder spielend viel Neues und lernen dabei auch noch neue Freunde ke
 nnen. Die Sinne der Kinder werden mit Hilfe verschiedener Materialien spiel
 erisch angeregt, es wird experimentiert und auch gebastelt. Achtsamkeit, Wa
 hrnehmungsförderung und Sinnesschulung stehen im Vordergrund!\nGenießt die 
 Zeit beim gemeinsamen Spielen und Entdecken mit euren Kindern!\n \n
X-ALT-DESC;FMTTYPE=text/html:<header class="frame-header"><h2 class="element-header ">Sinnesspielgruppe 
 für Kleinstkinder</h2><h4>von ca. 10 Monaten bis 2 Jahre</h4></header><div 
 class="frame-container"><div class="frame-inner"><div class="textpic textpi
 c-right"><div class="textpic-item textpic-gallery"> </div><div class="textp
 ic-item textpic-text"><p><span class="text-primary font-weight-bold">Start:
  </span> 23.06.2022</p><p><span class="text-primary font-weight-bold">Mit: 
 </span><a href="https://spielringel.at/angebote/das-team/claudia">Claudia</
 a></p><p><span class="text-primary font-weight-bold">Kurstag: </span> Donne
 rstag 09:30-10:30</p><p><span class="text-primary font-weight-bold">Termine
 : </span> 23.06., 30.06., 07.07., 14.07., 21.07.</p><p><span class="text-pr
 imary font-weight-bold">Kosten: </span> €75,- (5-Wochen Kurs)</p><p>Der Men
 sch ist eine Sonne, seine Sinne sind seine Planeten.<br /> Novalis</p><p>In
  unserer Sinnesspielgruppe entdecken die Kinder spielend viel Neues und ler
 nen dabei auch noch neue Freunde kennen. Die Sinne der Kinder werden mit Hi
 lfe verschiedener Materialien spielerisch angeregt, es wird experimentiert 
 und auch gebastelt. Achtsamkeit, Wahrnehmungsförderung und Sinnesschulung s
 tehen im Vordergrund!</p><p>Genießt die Zeit beim gemeinsamen Spielen und E
 ntdecken mit euren Kindern!</p><p> </p></div></div></div></div>
CONTACT:www.spielringel.at
X-EXTRAINFO:[preis='7500'][anmeldung='true']
DTSTAMP:20260423T095644
DTSTART:20220623T073000
DTEND:20220623T083000
SEQUENCE:0
RRULE:FREQ=WEEKLY;UNTIL=20220724T000000Z;INTERVAL=1;BYDAY=TH
TRANSP:OPAQUE
END:VEVENT
END:VCALENDAR