BEGIN:VCALENDAR
VERSION:2.0
PRODID:-//jEvents 2.0 for Joomla//EN
CALSCALE:GREGORIAN
METHOD:PUBLISH
BEGIN:VEVENT
UID:a2b373d731ed6dd6e0bec10a531c9825
CATEGORIES:18. Bezirk
CREATED:19700101T010000
SUMMARY:Farbenspielerei
LOCATION:Spielringel\, Mollgasse 11-13
DESCRIPTION:FarbenspielereiSinnesspiel mit Farben für Kinder ab 1 bis 2,5 JahrenBei uns
 erer Farbenspielerei dürfen sich die Kleinen jedesmal auf eine andere Art u
 nd Weise mit Farben austoben!\nStart:  23.06.2022\nMit: Claudia (https://sp
 ielringel.at/angebote/das-team/claudia)\nKurstag:  Donnerstag 11:15-12:15\n
 Termine:  23.06., 30.06., 07.07., 14.07., 21.07.\nKosten:  €75,- (5-Wochen 
 Kurs)\nEinmal toben wir uns mit Fingerfarben aus, ein andermal stempeln ode
 r kneten wir -  Auf jeden Fall wird es jedesmal sehr bunt!\nBitte Gewand, d
 as auch schmutzig werden darf, anziehen und Wechselgewand mitnehmen!\n
X-ALT-DESC;FMTTYPE=text/html:<header class="frame-header"><h2 class="element-header ">Farbenspielerei</h
 2><h4>Sinnesspiel mit Farben für Kinder ab 1 bis 2,5 Jahren</h4><div class=
 "textpic-item textpic-text"><p>Bei unserer Farbenspielerei dürfen sich die 
 Kleinen jedesmal auf eine andere Art und Weise mit Farben austoben!</p><p><
 span class="text-primary font-weight-bold">Start: </span> 23.06.2022</p><p>
 <span class="text-primary font-weight-bold">Mit: </span><a href="https://sp
 ielringel.at/angebote/das-team/claudia">Claudia</a></p><p><span class="text
 -primary font-weight-bold">Kurstag: </span> Donnerstag 11:15-12:15</p><p><s
 pan class="text-primary font-weight-bold">Termine: </span> 23.06., 30.06., 
 07.07., 14.07., 21.07.</p><p><span class="text-primary font-weight-bold">Ko
 sten: </span> €75,- (5-Wochen Kurs)</p><p>Einmal toben wir uns mit Fingerfa
 rben aus, ein andermal stempeln oder kneten wir -  Auf jeden Fall wird es j
 edesmal sehr bunt!</p><p>Bitte Gewand, das auch schmutzig werden darf, anzi
 ehen und Wechselgewand mitnehmen!</p></div></header>
CONTACT:www.spielringel.at
X-EXTRAINFO:[preis='7500'][anmeldung='true']
DTSTAMP:20260423T194820
DTSTART:20220623T091500
DTEND:20220623T101500
SEQUENCE:0
RRULE:FREQ=WEEKLY;UNTIL=20220724T000000Z;INTERVAL=1;BYDAY=TH
TRANSP:OPAQUE
END:VEVENT
END:VCALENDAR