BEGIN:VCALENDAR
VERSION:2.0
PRODID:-//jEvents 2.0 for Joomla//EN
CALSCALE:GREGORIAN
METHOD:PUBLISH
BEGIN:VEVENT
UID:80cdda968dbe739a42f1b03cd0ed76f9
CATEGORIES:18. Bezirk
CREATED:20220610T103458
SUMMARY:Musik mit Susanne für Babys 
LOCATION:Spielringel\, Mollgasse 11-13
DESCRIPTION:Musik mit Susanne für Babys für Babys (6-14 Monate)Kurstag:  Dienstag 14:00
 -14:45\nEinzeltermin am 14.06.\nKosten:  €15,-\n„Musikalität ist vor allem 
 die Fähigkeit von Musik berührt zu werden."\nEs wird dem Alter und der Entw
 icklung der Babys entsprechend, gespielt, gesungen, getanzt und musiziert. 
 Musik fördert die Entwicklung von Babys: Sie ist gut für die Bewegungskoord
 ination, die Sprachentwicklung, den Gleichgewichtssinn und die Bindung zur 
 Bezugsperson. Das beste daran ist, dass es einfach Freude macht!\nAn diesem
  Einzeltermin kannst du dir ansehen, wie eine EInheit der Spielgruppe mit M
 usik ablaufen kann. Im Herbst gbt es dann wieder 5-Wochen Kurse!\n
X-ALT-DESC;FMTTYPE=text/html:<header class="frame-header"><h2 class="element-header ">Musik mit Susanne 
 für Babys </h2><h4>für Babys (6-14 Monate)</h4><p><span class="text-primary
  font-weight-bold">Kurstag: </span> Dienstag 14:00-14:45</p><p>Einzeltermin
  am 14.06.</p><p><span class="text-primary font-weight-bold">Kosten: </span
 > €15,-</p><p>„Musikalität ist vor allem die Fähigkeit von Musik berührt zu
  werden."</p><p>Es wird dem Alter und der Entwicklung der Babys entsprechen
 d, gespielt, gesungen, getanzt und musiziert. Musik fördert die Entwicklung
  von Babys: Sie ist gut für die Bewegungskoordination, die Sprachentwicklun
 g, den Gleichgewichtssinn und die Bindung zur Bezugsperson. Das beste daran
  ist, dass es einfach Freude macht!</p><p>An diesem Einzeltermin kannst du 
 dir ansehen, wie eine EInheit der Spielgruppe mit Musik ablaufen kann. Im H
 erbst gbt es dann wieder 5-Wochen Kurse!</p></header>
CONTACT:www.spielringel.at
X-EXTRAINFO:[preis='1500'][anmeldung='true']
DTSTAMP:20260423T142655
DTSTART:20220614T120000
DTEND:20220614T124500
SEQUENCE:0
TRANSP:OPAQUE
END:VEVENT
END:VCALENDAR