BEGIN:VCALENDAR
VERSION:2.0
PRODID:-//jEvents 2.0 for Joomla//EN
CALSCALE:GREGORIAN
METHOD:PUBLISH
BEGIN:VEVENT
UID:532a1528bfc90c4aa7064c456c4c8f4e
CATEGORIES:18. Bezirk
CREATED:20220610T104711
SUMMARY:Musik mit Susanne für Babys
LOCATION:Spielringel\, Mollgasse 11-13
DESCRIPTION:Musik mit Susanne für Babysfür Babys (6-14 Monate)Mittwoch 14:00-14:45\nEin
 zeltermin am 15.06.\nKosten:  €15,-\n„Musikalität ist vor allem die Fähigke
 it von Musik berührt zu werden."\nEs wird dem Alter und der Entwicklung der
  Babys entsprechend, gespielt, gesungen, getanzt und musiziert. Musik förde
 rt die Entwicklung von Babys: Sie ist gut für die Bewegungskoordination, di
 e Sprachentwicklung, den Gleichgewichtssinn und die Bindung zur Bezugsperso
 n. Das beste daran ist, dass es einfach Freude macht!\nAn diesem Einzelterm
 in kannst du dir ansehen, wie eine EInheit der Spielgruppe mit Musik ablauf
 en kann. Im Herbst gbt es dann wieder 5-Wochen Kurse!\n
X-ALT-DESC;FMTTYPE=text/html:<h2 class="element-header ">Musik mit Susanne für Babys</h2><h4>für Babys (
 6-14 Monate)</h4><p>Mittwoch 14:00-14:45</p><p>Einzeltermin am 15.06.</p><p
 ><span class="text-primary font-weight-bold">Kosten: </span> €15,-</p><p>„M
 usikalität ist vor allem die Fähigkeit von Musik berührt zu werden."</p><p>
 Es wird dem Alter und der Entwicklung der Babys entsprechend, gespielt, ges
 ungen, getanzt und musiziert. Musik fördert die Entwicklung von Babys: Sie 
 ist gut für die Bewegungskoordination, die Sprachentwicklung, den Gleichgew
 ichtssinn und die Bindung zur Bezugsperson. Das beste daran ist, dass es ei
 nfach Freude macht!</p><p>An diesem Einzeltermin kannst du dir ansehen, wie
  eine EInheit der Spielgruppe mit Musik ablaufen kann. Im Herbst gbt es dan
 n wieder 5-Wochen Kurse!</p>
CONTACT:www.spielringel.at
X-EXTRAINFO:[preis='1500'][anmeldung='true']
DTSTAMP:20260423T142659
DTSTART:20220615T120000
DTEND:20220615T124500
SEQUENCE:0
TRANSP:OPAQUE
END:VEVENT
END:VCALENDAR