BEGIN:VCALENDAR
VERSION:2.0
PRODID:-//jEvents 2.0 for Joomla//EN
CALSCALE:GREGORIAN
METHOD:PUBLISH
BEGIN:VEVENT
UID:9625b8bc887dc14a3e15c118520a86f6
CATEGORIES:8. Bezirk
CREATED:20220614T174928
SUMMARY:Summer Dance Camp für Kinder
LOCATION:InDancity Vienna\, Bennogasse 8A/1b\, 1080 Wien
DESCRIPTION:<p>Eure Kids freuen sich sicher über Aktivitäten vor dem Schulstart. Was wä
 re ein besserer Abschluss für den Sommer als unser <b>Dance Camp? Vom 29.08
  bis zum 01.09</b> bieten wir <strong>täglich von 8.30-12.00</strong> Aktiv
 itäten, Snacks und Betreuung. Alle Altersgruppen sind willkommen, also sagt
  uns schnell, ob eure Kleinen dabei sein wollen. Am Programm stehen Karate,
  Latin Grooves und Hip Hop! <br /><br />Preis für 4 Tage 200€<br />50% Raba
 tt für Geschwister</p>
CONTACT:office@indancityvienna.com
X-EXTRAINFO:[preis='20000'][anmeldung='true']
DTSTAMP:20260423T100645
DTSTART:20220829T060000
DTEND:20220901T103000
SEQUENCE:0
TRANSP:OPAQUE
END:VEVENT
END:VCALENDAR