BEGIN:VCALENDAR
VERSION:2.0
PRODID:-//jEvents 2.0 for Joomla//EN
CALSCALE:GREGORIAN
METHOD:PUBLISH
BEGIN:VEVENT
UID:5b9adebd65f606e6d5168a7ef4f7a5dd
CATEGORIES:7. Bezirk
CREATED:20220621T202939
SUMMARY:Familiengottesdienst
LOCATION:Auferstehungskirche\, Lindengasse 44
DESCRIPTION:Ein evangelischer Gottesdienst für Familien zum Thema "Fürchte Dich nicht!"
 . Wir werden über Monster, Angst &amp; Mut reden, durchs "Wasser"und durchs
  "Feuer" gehen, unsere Namen hören, gemeinsam feiern, das Licht unserer (Ta
 uf-)Kerze wird uns an die gemeinsame Zeit bzw. unsere Taufe erinnern. \n \n
 Die barrierefreie Kirche ist direkt von der Lindengasse 44 zugänglich.\n
X-ALT-DESC;FMTTYPE=text/html:<p>Ein evangelischer Gottesdienst für Familien zum Thema "Fürchte Dich nich
 t!". Wir werden über Monster, Angst &amp; Mut reden, durchs "Wasser"und dur
 chs "Feuer" gehen, unsere Namen hören, gemeinsam feiern, das Licht unserer 
 (Tauf-)Kerze wird uns an die gemeinsame Zeit bzw. unsere Taufe erinnern. </
 p><p> </p><p>Die barrierefreie Kirche ist direkt von der Lindengasse 44 zug
 änglich.</p>
CONTACT:https://www.evang-neubau.at/
DTSTAMP:20260423T200750
DTSTART:20220626T080000
DTEND:20220626T090000
SEQUENCE:0
TRANSP:OPAQUE
END:VEVENT
END:VCALENDAR