BEGIN:VCALENDAR
VERSION:2.0
PRODID:-//jEvents 2.0 for Joomla//EN
CALSCALE:GREGORIAN
METHOD:PUBLISH
BEGIN:VEVENT
UID:ab13673f4089d4fd28ff5a9806d60e77
CATEGORIES:23. Bezirk
CREATED:19700101T010000
SUMMARY:fitdankbaby PRE mit Claudia - Fit mit Babybauch
LOCATION:Better Tennis Center Alt Erlaa\,  Erlaaer Str. 56A\, 1230 Wien
DESCRIPTION:<p>Für Schwangere ab der 14. Schwangerschaftswoche</p><p> </p><p>Es erwarte
 t Dich ein effektives Ganzkörperworkout, abgestimmt auf die Bedürfnisse wer
 dender Mamas. Gezielte Übungen verbessern Kraft, Beweglichkeit und Koordina
 tion und beugen Schwangerschaftsbeschwerden vor. Wenn es dir gut geht, geht
  es deinem Baby gut. Für eine schöne Zeit mit Babybauch. </p><p> </p><p>Wir
  treffen uns immer Mittwochs um 17:00 Uhr im Better Tennis Center Alt Erlaa
 , <span class="w8qArf"> </span><span class="LrzXr">Erlaaer Str. 56A</span>,
  1230 Wien. </p><p>Ein Einstieg in den laufenden Kurs ist jederzeit möglich
 . </p><p> </p><p>Buche jetzt Deinen Kurs unter:</p><p><a href="http://www.f
 itdankbaby.at/claudia.klinger">www.fitdankbaby.at/claudia.klinger</a> </p><
 p> </p><p>Verpasse keine News: </p><p><a href="http://www.facebook.com/fitd
 ankbabyClaudia">www.facebook.com/fitdankbabyClaudia</a> </p><p>Instagram: @
 fitdankbaby_claudia</p><p><br />Bei Fragen oder wenn du Interesse an einer 
 unverbindlichen <strong>Schnupperstunde</strong> hast kannst Du mich gerne 
 unter <a href="mailto:claudia.klinger@fitdankbaby.at">claudia.klinger@fitda
 nkbaby.at</a> kontaktieren. </p><p> </p><p>Ich freue mich darauf schon bald
  gemeinsam mit Dir zu trainieren! </p>
CONTACT:Claudia Klinger - claudia.klinger@fitdankbaby.at
X-EXTRAINFO:[preis='1300'][anmeldung='true']
DTSTAMP:20260423T125204
DTSTART:20220914T150000
DTEND:20220914T160000
SEQUENCE:0
RRULE:FREQ=WEEKLY;COUNT=4;INTERVAL=1;BYDAY=WE
TRANSP:OPAQUE
END:VEVENT
END:VCALENDAR