BEGIN:VCALENDAR
VERSION:2.0
PRODID:-//jEvents 2.0 for Joomla//EN
CALSCALE:GREGORIAN
METHOD:PUBLISH
BEGIN:VEVENT
UID:012b42e0cbaba3381fb098d6961ab989
CATEGORIES:23. Bezirk
CREATED:20220625T104539
SUMMARY:fitdankbaby PRE mit Claudia - Fit mit Babybauch
LOCATION:Better Tennis Center Alt Erlaa\,  Erlaaer Str. 56A\, 1230 Wien
DESCRIPTION:<p>Für Schwangere ab der 14. Schwangerschaftswoche</p><p> </p><p>Es erwarte
 t Dich ein effektives Ganzkörperworkout, abgestimmt auf die Bedürfnisse wer
 dender Mamas. Gezielte Übungen verbessern Kraft, Beweglichkeit und Koordina
 tion und beugen Schwangerschaftsbeschwerden vor. Wenn es dir gut geht, geht
  es deinem Baby gut. Für eine schöne Zeit mit Babybauch. </p><p> </p><p> </
 p><p>Buche jetzt Deinen Kurs unter:</p><p><a href="http://www.fitdankbaby.a
 t/claudia.klinger">www.fitdankbaby.at/claudia.klinger</a> </p><p> </p><p>Ve
 rpasse keine News: </p><p><a href="http://www.facebook.com/fitdankbabyClaud
 ia">www.facebook.com/fitdankbabyClaudia</a> </p><p>Instagram: @fitdankbaby_
 claudia</p><p><br />Bei Fragen oder wenn du Interesse an einer unverbindlic
 hen <strong>Schnupperstunde</strong> hast kannst Du mich gerne unter <a hre
 f="mailto:claudia.klinger@fitdankbaby.at">claudia.klinger@fitdankbaby.at</a
 > kontaktieren. </p><p> </p><p>Ich freue mich darauf schon bald gemeinsam m
 it Dir zu trainieren! </p>
CONTACT:Claudia Klinger - claudia.klinger@fitdankbaby.at
X-EXTRAINFO:[preis='1300'][anmeldung='true']
DTSTAMP:20260423T142027
DTSTART:20220706T150000
DTEND:20220706T160000
SEQUENCE:0
TRANSP:OPAQUE
END:VEVENT
END:VCALENDAR