BEGIN:VCALENDAR
VERSION:2.0
PRODID:-//jEvents 2.0 for Joomla//EN
CALSCALE:GREGORIAN
METHOD:PUBLISH
BEGIN:VEVENT
UID:deaaa46ea8a5245d89b11a4f7e99b5fb
CATEGORIES:18. Bezirk
CREATED:20220627T091740
SUMMARY:Musik mit Susanne für Babys
LOCATION:Spielringel\, Mollgasse 11-13
DESCRIPTION:Musik mit Susanne für Babys (12.07.)für Babys (6-14 Monate)„Musikalität ist
  vor allem die Fähigkeit von Musik berührt zu werden."\nEs wird dem Alter u
 nd der Entwicklung der Babys entsprechend, gespielt, gesungen, getanzt und 
 musiziert. Musik fördert die Entwicklung von Babys: Sie ist gut für die Bew
 egungskoordination, die Sprachentwicklung, den Gleichgewichtssinn und die B
 indung zur Bezugsperson. Das beste daran ist, dass es einfach Freude macht!
 \nAn diesem Einzeltermin kannst du dir ansehen, wie eine EInheit der Spielg
 ruppe mit Musik ablaufen kann. Im Herbst gbt es dann wieder 5-Wochen Kurse!
 \n  
X-ALT-DESC;FMTTYPE=text/html:<div class="frame frame-default frame-type-textpic frame-layout-0 frame-bac
 kground-none frame-no-backgroundimage frame-space-before-none frame-space-a
 fter-none"><div class="frame-container"><div class="frame-inner"><div class
 ="textpic textpic-right"><div class="textpic-item textpic-text"><header cla
 ss="frame-header"><h2 class="element-header ">Musik mit Susanne für Babys (
 12.07.)</h2><h4>für Babys (6-14 Monate)</h4></header><p>„Musikalität ist vo
 r allem die Fähigkeit von Musik berührt zu werden."</p><p>Es wird dem Alter
  und der Entwicklung der Babys entsprechend, gespielt, gesungen, getanzt un
 d musiziert. Musik fördert die Entwicklung von Babys: Sie ist gut für die B
 ewegungskoordination, die Sprachentwicklung, den Gleichgewichtssinn und die
  Bindung zur Bezugsperson. Das beste daran ist, dass es einfach Freude mach
 t!</p><p>An diesem Einzeltermin kannst du dir ansehen, wie eine EInheit der
  Spielgruppe mit Musik ablaufen kann. Im Herbst gbt es dann wieder 5-Wochen
  Kurse!</p></div></div></div></div></div><div id="c876" class="frame frame-
 default frame-type-form_formframework frame-layout-0 frame-background-none 
 frame-no-backgroundimage frame-space-before-none frame-space-after-none"><d
 iv class="frame-container"><div class="frame-inner"><div class="form-contai
 ner form-identifier-anmeldeformular-876"><form id="anmeldeformular-876" enc
 type="multipart/form-data" method="post" novalidate="novalidate"><div> </di
 v><input id="anmeldeformular-876-Ry4wmNI7FMcAa" style="position: absolute; 
 margin: 0 0 0 -999em;" tabindex="-1" autocomplete="Ry4wmNI7FMcAa" name="tx_
 form_formframework[anmeldeformular-876][Ry4wmNI7FMcAa]" type="text" /><div 
 class="form-actions"> </div></form></div></div></div></div>
CONTACT:www.spielringel.at
X-EXTRAINFO:[preis='1500'][anmeldung='true']
DTSTAMP:20260423T155221
DTSTART:20220712T073000
DTEND:20220712T081500
SEQUENCE:0
TRANSP:OPAQUE
END:VEVENT
END:VCALENDAR