BEGIN:VCALENDAR
VERSION:2.0
PRODID:-//jEvents 2.0 for Joomla//EN
CALSCALE:GREGORIAN
METHOD:PUBLISH
BEGIN:VEVENT
UID:6d9ebe0c93fce782b3540914a439c21f
CATEGORIES:18. Bezirk
CREATED:20220627T092133
SUMMARY:Musik mit Susanne für Kleinkinder 
LOCATION:Spielringel\, Mollgasse 11-13
DESCRIPTION:<header class="frame-header"><h2 class="element-header ">Musik mit Susanne 
 für Kleinkinder (16.08.)</h2><h4>(12- 24 Monate)</h4><p>Der Gruppenraum wir
 d zum Erlebnis- und Bewegungsraum. In gemütlicher, kindgerechter Umgebung k
 önnen neue Bekanntschaften geschlossen werden.</p><p>Jede Stunde regen neue
  Spielimpulse zum Mitmachen an und geben Anreiz zur leichten Umsetzung zu H
 ause.</p><p>Dein Kind hat die Möglichkeit sich frei in einer Gruppe Gleicha
 ltriger zu bewegen und dich trotzdem immer als sicheren Hafen zur Einkehr b
 ei sich zu haben.</p><p>An diesem Einzeltermin kannst du dir ansehen, wie e
 ine EInheit der Spielgruppe mit Musik ablaufen kann. Im Herbst gbt es dann 
 wieder 5-Wochen Kurse!</p></header>
CONTACT:www.spielringel.at
X-EXTRAINFO:[preis='1500'][anmeldung='true']
DTSTAMP:20260423T100114
DTSTART:20220816T131500
DTEND:20220816T140000
SEQUENCE:0
TRANSP:OPAQUE
END:VEVENT
END:VCALENDAR