BEGIN:VCALENDAR
VERSION:2.0
PRODID:-//jEvents 2.0 for Joomla//EN
CALSCALE:GREGORIAN
METHOD:PUBLISH
BEGIN:VEVENT
UID:bec1affb434b474aa0e2424bee116373
CATEGORIES:18. Bezirk
CREATED:20220627T092231
SUMMARY:Musik mit Susanne für Babys 
LOCATION:Spielringel\, Mollgasse 11-13
DESCRIPTION:Musik mit Susanne für Babys (13.07.)für Babys (6-14 Monate)„Musikalität ist
  vor allem die Fähigkeit von Musik berührt zu werden."\nEs wird dem Alter u
 nd der Entwicklung der Babys entsprechend, gespielt, gesungen, getanzt und 
 musiziert. Musik fördert die Entwicklung von Babys: Sie ist gut für die Bew
 egungskoordination, die Sprachentwicklung, den Gleichgewichtssinn und die B
 indung zur Bezugsperson. Das beste daran ist, dass es einfach Freude macht!
 \nAn diesem Einzeltermin kannst du dir ansehen, wie eine EInheit der Spielg
 ruppe mit Musik ablaufen kann. Im Herbst gbt es dann wieder 5-Wochen Kurse!
 \n
X-ALT-DESC;FMTTYPE=text/html:<header class="frame-header"><h2 class="element-header ">Musik mit Susanne 
 für Babys (13.07.)</h2><h4>für Babys (6-14 Monate)</h4><p>„Musikalität ist 
 vor allem die Fähigkeit von Musik berührt zu werden."</p><p>Es wird dem Alt
 er und der Entwicklung der Babys entsprechend, gespielt, gesungen, getanzt 
 und musiziert. Musik fördert die Entwicklung von Babys: Sie ist gut für die
  Bewegungskoordination, die Sprachentwicklung, den Gleichgewichtssinn und d
 ie Bindung zur Bezugsperson. Das beste daran ist, dass es einfach Freude ma
 cht!</p><p>An diesem Einzeltermin kannst du dir ansehen, wie eine EInheit d
 er Spielgruppe mit Musik ablaufen kann. Im Herbst gbt es dann wieder 5-Woch
 en Kurse!</p></header>
CONTACT:www.spielringel.at
X-EXTRAINFO:[preis='1500'][anmeldung='true']
DTSTAMP:20260423T155218
DTSTART:20220713T120000
DTEND:20220713T124500
SEQUENCE:0
TRANSP:OPAQUE
END:VEVENT
END:VCALENDAR