BEGIN:VCALENDAR
VERSION:2.0
PRODID:-//jEvents 2.0 for Joomla//EN
CALSCALE:GREGORIAN
METHOD:PUBLISH
BEGIN:VEVENT
UID:9959fb1d8a7eb2bd0e0be6c7a0537e64
CATEGORIES:18. Bezirk
CREATED:20220627T092550
SUMMARY:Musik mit Susanne für Kleinkinder 
LOCATION:Spielringel\, Mollgasse 11-13
DESCRIPTION:<header class="frame-header"><h2 class="element-header ">Musik mit Susanne 
 für Kleinkinder (17.08.)</h2><h4>(12- 24 Monate)</h4><header class="frame-h
 eader"><p>Der Gruppenraum wird zum Erlebnis- und Bewegungsraum. In gemütlic
 her, kindgerechter Umgebung können neue Bekanntschaften geschlossen werden.
 </p><p>Jede Stunde regen neue Spielimpulse zum Mitmachen an und geben Anrei
 z zur leichten Umsetzung zu Hause.</p><p>Dein Kind hat die Möglichkeit sich
  frei in einer Gruppe Gleichaltriger zu bewegen und dich trotzdem immer als
  sicheren Hafen zur Einkehr bei sich zu haben.</p><p>An diesem Einzeltermin
  kannst du dir ansehen, wie eine EInheit der Spielgruppe mit Musik ablaufen
  kann. Im Herbst gbt es dann wieder 5-Wochen Kurse!</p></header></header>
CONTACT:www.spielringel.at
X-EXTRAINFO:[preis='1500'][anmeldung='true']
DTSTAMP:20260423T111748
DTSTART:20220817T084500
DTEND:20220817T093000
SEQUENCE:0
TRANSP:OPAQUE
END:VEVENT
END:VCALENDAR