BEGIN:VCALENDAR
VERSION:2.0
PRODID:-//jEvents 2.0 for Joomla//EN
CALSCALE:GREGORIAN
METHOD:PUBLISH
BEGIN:VEVENT
UID:613b9f0e82dd668ceff0103ef76348fb
CATEGORIES:18. Bezirk
CREATED:20220627T101803
SUMMARY:Mama-Café
LOCATION:Spielringel\, Mollgasse 11-13
DESCRIPTION:Mama-Café am Abend\nHier geht es um dich als Mama, hier hast du Zeit für di
 ch und all die Themen, die dich beschäftigen. Aus Sicht der Physiotherapie 
 und der Familienberatung.\nDas Mama-Café findet 1x pro Monat statt!\nThemen
  und Termine 2022:\n05.09. Achtsamkeit: Wahrnehmen, was ist.\n03.10. Gefühl
 e: Was machen sie mit uns?\n07.11. Ressourcen: Fokus auf das, was uns stütz
 t\n05.12.Stress: Auswirkungen, Umgang\nInfo &amp; Anmeldung:\nK.LOTTER@THER
 APIESCHMIEDE.AT (mailto:K.LOTTER@THERAPIESCHMIEDE.AT)\nE.PENZ@THERAPIESCHMI
 EDE.AT\n
X-ALT-DESC;FMTTYPE=text/html:<div class="frame frame-default frame-type-textpic frame-layout-0 frame-bac
 kground-none frame-no-backgroundimage frame-space-before-none frame-space-a
 fter-none"><div class="frame-container"><div class="frame-inner"><div class
 ="textpic textpic-right"><div class="textpic-item textpic-text"><p>Mama-Caf
 é am Abend</p><p>Hier geht es um dich als Mama, hier hast du Zeit für dich 
 und all die Themen, die dich beschäftigen. Aus Sicht der Physiotherapie und
  der Familienberatung.</p><p>Das Mama-Café findet 1x pro Monat statt!</p><p
 >Themen und Termine 2022:</p><p>05.09. Achtsamkeit: Wahrnehmen, was ist.</p
 ><p>03.10. Gefühle: Was machen sie mit uns?</p><p>07.11. Ressourcen: Fokus 
 auf das, was uns stützt</p><p>05.12.Stress: Auswirkungen, Umgang</p></div><
 /div></div></div></div><div id="c891" class="frame frame-default frame-type
 -text frame-layout-0 frame-background-none frame-no-backgroundimage frame-s
 pace-before-none frame-space-after-none"><div class="frame-container"><div 
 class="frame-inner"><p><span class="text-primary">Info &amp; Anmeldung:</sp
 an></p><p><a href="mailto:K.LOTTER@THERAPIESCHMIEDE.AT">K.LOTTER@THERAPIESC
 HMIEDE.AT</a></p><p>E.PENZ@THERAPIESCHMIEDE.AT</p></div></div></div>
CONTACT:www.spielringel.at
X-EXTRAINFO:[preis='2500'][anmeldung='true']
DTSTAMP:20260425T121534
DTSTART:20220905T160000
DTEND:20220905T173000
SEQUENCE:0
TRANSP:OPAQUE
END:VEVENT
END:VCALENDAR