BEGIN:VCALENDAR
VERSION:2.0
PRODID:-//jEvents 2.0 for Joomla//EN
CALSCALE:GREGORIAN
METHOD:PUBLISH
BEGIN:VEVENT
UID:d4f9cd42ba6b3006523eb36db21ac37a
CATEGORIES:18. Bezirk
CREATED:19700101T010000
SUMMARY:Spielgruppe mit Musik für Babys
LOCATION:Spielringel\, Mollgasse 11-13
DESCRIPTION:Spielgruppe mit Musik für Babys Dienstagfür Babys (6-14 Monate)„Musikalität
  ist vor allem die Fähigkeit von Musik berührt zu werden."\nEs wird dem Alt
 er und der Entwicklung der Babys entsprechend, gespielt, gesungen, getanzt 
 und musiziert. Musik fördert die Entwicklung von Babys: Sie ist gut für die
  Bewegungskoordination, die Sprachentwicklung, den Gleichgewichtssinn und d
 ie Bindung zur Bezugsperson. Das beste daran ist, dass es einfach Freude ma
 cht!\n
X-ALT-DESC;FMTTYPE=text/html:<header class="frame-header"><h2 class="element-header ">Spielgruppe mit Mu
 sik für Babys Dienstag</h2><h4>für Babys (6-14 Monate)</h4><p>„Musikalität 
 ist vor allem die Fähigkeit von Musik berührt zu werden."</p><p>Es wird dem
  Alter und der Entwicklung der Babys entsprechend, gespielt, gesungen, geta
 nzt und musiziert. Musik fördert die Entwicklung von Babys: Sie ist gut für
  die Bewegungskoordination, die Sprachentwicklung, den Gleichgewichtssinn u
 nd die Bindung zur Bezugsperson. Das beste daran ist, dass es einfach Freud
 e macht!</p></header>
CONTACT:www.spielringel.at
X-EXTRAINFO:[preis='7500'][anmeldung='true']
DTSTAMP:20260423T112300
DTSTART:20220906T120000
DTEND:20220906T124500
SEQUENCE:0
RRULE:FREQ=WEEKLY;UNTIL=20221006T000000Z;INTERVAL=1;BYDAY=TU
TRANSP:OPAQUE
END:VEVENT
END:VCALENDAR