BEGIN:VCALENDAR
VERSION:2.0
PRODID:-//jEvents 2.0 for Joomla//EN
CALSCALE:GREGORIAN
METHOD:PUBLISH
BEGIN:VEVENT
UID:7784e146177cb71a4a74718813443f13
CATEGORIES:18. Bezirk
CREATED:19700101T010000
SUMMARY:Spielgruppe mit Musik für Kleinkinder 
LOCATION:Spielringel\, Mollgasse 11-13
DESCRIPTION:Spielgruppe mit Musik für Kleinkinder Dienstag(12- 24 Monate)Der Gruppenrau
 m wird zum Erlebnis- und Bewegungsraum. In gemütlicher, kindgerechter Umgeb
 ung können neue Bekanntschaften geschlossen werden.\nJede Stunde regen neue
  Spielimpulse zum Mitmachen an und geben Anreiz zur leichten Umsetzung zu H
 ause.\nDein Kind hat die Möglichkeit sich frei in einer Gruppe Gleichaltrig
 er zu bewegen und dich trotzdem immer als sicheren Hafen zur Einkehr bei si
 ch zu haben.\n \n
X-ALT-DESC;FMTTYPE=text/html:<header class="frame-header"><h2 class="element-header ">Spielgruppe mit Mu
 sik für Kleinkinder Dienstag</h2><h4>(12- 24 Monate)</h4><p>Der Gruppenraum
  wird zum Erlebnis- und Bewegungsraum. In gemütlicher, kindgerechter Umgebu
 ng können neue Bekanntschaften geschlossen werden.</p><p>Jede Stunde regen 
 neue Spielimpulse zum Mitmachen an und geben Anreiz zur leichten Umsetzung 
 zu Hause.</p><p>Dein Kind hat die Möglichkeit sich frei in einer Gruppe Gle
 ichaltriger zu bewegen und dich trotzdem immer als sicheren Hafen zur Einke
 hr bei sich zu haben.</p><p> </p></header>
CONTACT:www.spielringel.at
X-EXTRAINFO:[preis='7500'][anmeldung='true']
DTSTAMP:20260423T112354
DTSTART:20220906T131500
DTEND:20220906T140000
SEQUENCE:0
RRULE:FREQ=WEEKLY;UNTIL=20221006T000000Z;INTERVAL=1;BYDAY=TU
TRANSP:OPAQUE
END:VEVENT
END:VCALENDAR