BEGIN:VCALENDAR
VERSION:2.0
PRODID:-//jEvents 2.0 for Joomla//EN
CALSCALE:GREGORIAN
METHOD:PUBLISH
BEGIN:VEVENT
UID:b6fd7d88b18ca55a57f13bc13f448dff
CATEGORIES:2. Bezirk
CREATED:20220627T153338
SUMMARY:Mamma Papa Mia - Gemeinsames Singen für werdende Eltern und Familien mit  Babys und Kleinkindern
LOCATION:Das MuTh - Am Augartenspitz 1\, 1020 Wien
DESCRIPTION:<p>Gemeinsames Singen beruhigt und stärkt Beziehungen sowie das Vertrauen. 
 Außerdem fördern Gesangsübungen das Körperbewusstsein und verbessern die At
 mung. Und das Beste ist, Singen kann jeder, findet Gesangspädagogin Giti Hu
 ber. Sie verfügt über jahrelange Erfahrung mit Sing-Neulingen, unter andere
 m durch ihre Tätigkeit beim „1. Wiener ich kann nicht singen Chor“. Mit ein
 fachen Übungen sorgt sie dafür, dass man schnell die Scheu vergisst und Fre
 ude am Singen entdeckt.</p><p>Bei MAMMA PAPA MIA lernen werdende und frisch
 gebackene Eltern in mehreren Programmen Wiegen- und Kinderlieder, die von M
 ozart über Lalelu bis hin zu lateinamerikanischer Volksmusik reichen. Begle
 itet von einem kleinen Ensemble werden moderne Lieder zum Baden, Zähne putz
 en oder Trösten gesungen, die den Alltag mit Kindern erleichtern und spanne
 nder gestalten. Deshalb sind auch Tanten, Onkel, Großeltern und Freundinnen
  und Freunde herzlich zum Mitsingen eingeladen. Auch Geschwisterkinder dürf
 en bei MAMMA PAPA MIA einen Raum voller Musik erleben. Sogar ungeborene Kin
 der hören schon mit und werden die Melodien auch später noch mit der Geborg
 enheit im Mutterleib verbinden. Gerade in der Schwangerschaft ist Singen da
 her eine Bereicherung für Mutter und Kind.</p><p>Zum Abschluss dürfen Sie s
 ich zurücklehnen und werden mit einem kleinen und abwechslungsreichen Konze
 rt belohnt.</p><div class="detail-termin-programm">Musik von MOZART, RAVEL,
  PIAZZOLLA bis Techno, Volksmusik aus Lateinamerika bis Russland, von Lalel
 u bis Lieder zum Baden, Trösten und Kitzeln</div><div class="detail-termin_
 cast"><div><span class="detail-termin_cast_name">Giti Huber</span> <span cl
 ass="detail-termin-cast_role">Gesang, Leitung</span></div><div><span class=
 "detail-termin_cast_name">Nicole Henter</span> <span class="detail-termin-c
 ast_role">Flöte</span></div><div><span class="detail-termin_cast_name">Juli
 a Kräuter</span> <span class="detail-termin-cast_role">Harfe</span></div><d
 iv> </div><div><p class="card-title">Kartenpreise:</p><ul class="list-group
  list-group-flush"><li class="list-group-item"><p><span class="detail-termi
 n-price-name">1 Erwachsene:r + 1 Kind | 22,00 €</span></p></li><li class="l
 ist-group-item"><p><span class="detail-termin-price-name">jede:r weitere Er
 wachsene | 22,00 €</span></p></li><li class="list-group-item"><p><span clas
 s="detail-termin-price-name">jedes weitere Kind | 9,00 €</span></p></li></u
 l></div></div>
CONTACT:tickets@muth.at oder 01 347 80 80
X-EXTRAINFO:[preis='2200'][anmeldung='false']
DTSTAMP:20260423T190229
DTSTART:20220924T130000
DTEND:20220924T140000
SEQUENCE:0
TRANSP:OPAQUE
END:VEVENT
END:VCALENDAR