BEGIN:VCALENDAR
VERSION:2.0
PRODID:-//jEvents 2.0 for Joomla//EN
CALSCALE:GREGORIAN
METHOD:PUBLISH
BEGIN:VEVENT
UID:0f68eb5928c3e96b7880efefeaa62cb1
CATEGORIES:6. Bezirk
CREATED:20220704T164520
SUMMARY:Beziehung ohne Strafen – liebevolles Grenzen setzen
LOCATION:Biolino Institut\, Sandwirtgasse 13/12\, 1060 Wien
DESCRIPTION:Liebevoll Grenzen setzen, ohne zu verletzen, erziehen ohne Strafen, schimpf
 en und drohen: Wie kann das im Familienalltag gelingen?\nNeben theoretische
 n Inputs aus der Entwicklungspsychologie und der Neurobiologie bekommen Tei
 lnehmende in diesem Workshop vor allem einen praktischen Leitfaden für ihre
 n Familienalltag, Tools, um in stressigen Situationen ruhig und absichtsvol
 l zu bleiben, sowie die Möglichkeit, konkrete Fragen zu stellen und in eine
 n gemeinsamen Meinungs- und Erfahrungsaustausch zu treten.\nEin praxisnaher
  Workshop für Eltern, Großeltern und Pädagog*innen.\n Workshopleitung: Mag.
  Barbara Grütze, Elternberaterin\nVeranstalter*in: Biolino Institut\nOrt: S
 andwirtgasse 13/12, 1060 Wien\nWorkshop-Beitrag: €39,- pro Person\nAnmeldun
 g: kontakt@beziehungsvoll.at (mailto:%20kontakt@beziehungsvoll.at)\n
X-ALT-DESC;FMTTYPE=text/html:<p>Liebevoll Grenzen setzen, ohne zu verletzen, erziehen ohne Strafen, schi
 mpfen und drohen: Wie kann das im Familienalltag gelingen?</p><p>Neben theo
 retischen Inputs aus der Entwicklungspsychologie und der Neurobiologie beko
 mmen Teilnehmende in diesem Workshop vor allem einen praktischen Leitfaden 
 für ihren Familienalltag, Tools, um in stressigen Situationen ruhig und abs
 ichtsvoll zu bleiben, sowie die Möglichkeit, konkrete Fragen zu stellen und
  in einen gemeinsamen Meinungs- und Erfahrungsaustausch zu treten.<br />Ein
  praxisnaher Workshop für Eltern, Großeltern und Pädagog*innen.</p><div cla
 ss="wp-block-spacer"> </div><p><strong>Workshopleitung:</strong> Mag. Barba
 ra Grütze, Elternberaterin<br /><strong>Veranstalter*in: </strong>Biolino I
 nstitut<br /><strong>Ort: </strong>Sandwirtgasse 13/12, 1060 Wien<br /><str
 ong>Workshop-Beitrag:</strong> €39,- pro Person<br /><strong>Anmeldung</str
 ong>: <a href="mailto:%20kontakt@beziehungsvoll.at">kontakt@beziehungsvoll.
 at</a></p>
CONTACT:kontakt@beziehungsvoll.at
X-EXTRAINFO:[preis='3900'][anmeldung='true']
DTSTAMP:20260423T141746
DTSTART:20221001T073000
DTEND:20221001T093000
SEQUENCE:0
TRANSP:OPAQUE
END:VEVENT
END:VCALENDAR