BEGIN:VCALENDAR
VERSION:2.0
PRODID:-//jEvents 2.0 for Joomla//EN
CALSCALE:GREGORIAN
METHOD:PUBLISH
BEGIN:VEVENT
UID:2057cfa810d58c8158d421f0e0a9ff3c
CATEGORIES:23. Bezirk
CREATED:19700101T010000
SUMMARY:Rückbildungsgymnastik für Mütter mit Baby
LOCATION:VHS Erlaa - Putzendoplergasse 4 /1230 Wien
DESCRIPTION:<p>Mit den sanften Übungen der Rückbildungsgymnastik wird der Beckenboden g
 estärkt und Rücken- und Bauchmuskulatur werden trainiert, Entspannungseleme
 nte tragen zum körperlichen und seelischen Wohlbefinden bei. Daneben gibt d
 ie Möglichkeit zum Erfahrungsaustausch mit anderen Müttern mehr Sicherheit 
 in der neuen Lebensphase. Das Baby ist mit dabei!</p><p><strong>Schnuppern 
 ist möglich! </strong></p><p><strong>Preis für alle 6 Termine: 44 Euro </st
 rong></p><p><strong>Nähere Informationen unter</strong> <a href="https://ww
 w.vhs.at/de/k/285611303">https://www.vhs.at/de/k/285611303</a></p>
CONTACT:Erlaa@vhs.at oder 01/ 89 174 123 302
X-EXTRAINFO:[preis='4400'][anmeldung='true']
DTSTAMP:20260423T095935
DTSTART:20221003T090000
DTEND:20221114T110000
SEQUENCE:0
RRULE:FREQ=WEEKLY;UNTIL=20221115T000000Z;INTERVAL=1;BYDAY=MO
TRANSP:OPAQUE
END:VEVENT
END:VCALENDAR