BEGIN:VCALENDAR
VERSION:2.0
PRODID:-//jEvents 2.0 for Joomla//EN
CALSCALE:GREGORIAN
METHOD:PUBLISH
BEGIN:VEVENT
UID:273a067c0dbdcefa30975382aaa40217
CATEGORIES:23. Bezirk
CREATED:19700101T010000
SUMMARY:Eltern-Kind-Tanzraum 1,5-3 Jahre
LOCATION:VHS Erlaa - Putzendoplergasse 4 /1230 Wien
DESCRIPTION:Spielerisch und mit viel Freude an Musik, Rhythmus, Bewegung und Sprache ta
 sten wir uns gemeinsam an das große Bewegungsfeld 'Tanz' heran und lassen d
 abei alles zu, was die gemeinsame Zeit für Kinder und ihre (Groß-) Eltern z
 u einem Erlebnis mit einem Strauß schöner Erinnerungen werden lässt.\nSchnu
 ppern ist möglich!\nPreis für alle 6 Termine: 44 €\nNähere Informationen un
 ter https://www.vhs.at/de/k/285611377\n
X-ALT-DESC;FMTTYPE=text/html:<p>Spielerisch und mit viel Freude an Musik, Rhythmus, Bewegung und Sprache
  tasten wir uns gemeinsam an das große Bewegungsfeld 'Tanz' heran und lasse
 n dabei alles zu, was die gemeinsame Zeit für Kinder und ihre (Groß-) Elter
 n zu einem Erlebnis mit einem Strauß schöner Erinnerungen werden lässt.</p>
 <p><strong>Schnuppern ist möglich!</strong></p><p><strong>Preis für alle 6 
 Termine: 44 €</strong></p><p><strong>Nähere Informationen unter </strong><a
  href="https://www.vhs.at/de/k/285611377">https://www.vhs.at/de/k/285611377
 </a></p>
CONTACT:erlaa@vhs.at oder 01/ 89 174 123 302
X-EXTRAINFO:[preis='4400'][anmeldung='true']
DTSTAMP:20260423T144126
DTSTART:20221004T120000
DTEND:20221115T140000
SEQUENCE:0
RRULE:FREQ=WEEKLY;UNTIL=20221116T000000Z;INTERVAL=1;BYDAY=TU
TRANSP:OPAQUE
END:VEVENT
END:VCALENDAR